BEGIN:VCALENDAR
VERSION:2.0
PRODID:-//Supply Chaney - ECPv6.15.17.1//NONSGML v1.0//EN
CALSCALE:GREGORIAN
METHOD:PUBLISH
X-ORIGINAL-URL:https://supplychaney.com
X-WR-CALDESC:Events for Supply Chaney
REFRESH-INTERVAL;VALUE=DURATION:PT1H
X-Robots-Tag:noindex
X-PUBLISHED-TTL:PT1H
BEGIN:VTIMEZONE
TZID:America/Chicago
BEGIN:DAYLIGHT
TZOFFSETFROM:-0600
TZOFFSETTO:-0500
TZNAME:CDT
DTSTART:20250309T080000
END:DAYLIGHT
BEGIN:STANDARD
TZOFFSETFROM:-0500
TZOFFSETTO:-0600
TZNAME:CST
DTSTART:20251102T070000
END:STANDARD
BEGIN:DAYLIGHT
TZOFFSETFROM:-0600
TZOFFSETTO:-0500
TZNAME:CDT
DTSTART:20260308T080000
END:DAYLIGHT
BEGIN:STANDARD
TZOFFSETFROM:-0500
TZOFFSETTO:-0600
TZNAME:CST
DTSTART:20261101T070000
END:STANDARD
BEGIN:DAYLIGHT
TZOFFSETFROM:-0600
TZOFFSETTO:-0500
TZNAME:CDT
DTSTART:20270314T080000
END:DAYLIGHT
BEGIN:STANDARD
TZOFFSETFROM:-0500
TZOFFSETTO:-0600
TZNAME:CST
DTSTART:20271107T070000
END:STANDARD
END:VTIMEZONE
BEGIN:VEVENT
DTSTART;TZID=America/Chicago:20260303T080000
DTEND;TZID=America/Chicago:20260307T170000
DTSTAMP:20260419T161624
CREATED:20260218T113313Z
LAST-MODIFIED:20260218T113313Z
UID:16155-1772524800-1772902800@supplychaney.com
SUMMARY:CONEXPO CON/AGG
DESCRIPTION:The Largest Construction Show in North America!\nMore equipment. More connections. More possibilities to bring your business to the next level.You’ll meet industry leaders and friends. You’ll build new relationships in the community. You’ll find the equipment\, services\, and people within your construction field. \n 
URL:https://supplychaney.com/event/conexpo-con-agg/
LOCATION:Las Vegas\, NV
END:VEVENT
BEGIN:VEVENT
DTSTART;TZID=America/Chicago:20260304T170000
DTEND;TZID=America/Chicago:20260306T170000
DTSTAMP:20260419T161624
CREATED:20251208T153253Z
LAST-MODIFIED:20251208T153253Z
UID:14526-1772643600-1772816400@supplychaney.com
SUMMARY:2026 AAPA Legislative Summit
DESCRIPTION:2026 AAPA Legislative Summit \nEvent dates: March 4-6\, 2026
URL:https://supplychaney.com/event/2026-aapa-legislative-summit/
LOCATION:TX
CATEGORIES:Summit
ATTACH;FMTTYPE=image/png:https://supplychaney.com/wp-content/uploads/2025/12/2026-aapa-legislative-summit-ea133f4c6e1b89db771cbfa9476c52c3.png
END:VEVENT
BEGIN:VEVENT
DTSTART;TZID=America/Chicago:20260306T080000
DTEND;TZID=America/Chicago:20260313T170000
DTSTAMP:20260419T161624
CREATED:20251211T142931Z
LAST-MODIFIED:20251211T142931Z
UID:14593-1772784000-1773421200@supplychaney.com
SUMMARY:TTA 2026 Annual Convention: Costa Rica
DESCRIPTION:The Toronto Trucking Association is excited to announce the 2026 Convention will take place at Secrets Papagayo\, Costa Rica\, March 6 – March 13\, 2026.\nThis is a fantastic opportunity to spend time relaxing and reuniting with friends and making new ones. Our exciting group activity tours\, informal business sessions\, and fun in the sun will be announced later!
URL:https://supplychaney.com/event/tta-2026-annual-convention-costa-rica/
LOCATION:Costa Rica
END:VEVENT
BEGIN:VEVENT
DTSTART;TZID=America/Chicago:20260306T090000
DTEND;TZID=America/Chicago:20260306T130000
DTSTAMP:20260419T161624
CREATED:20260127T140629Z
LAST-MODIFIED:20260127T140629Z
UID:15645-1772787600-1772802000@supplychaney.com
SUMMARY:Facility Tour: Gap Fresno Distribution Center Sponsored by VARGO
DESCRIPTION:This tour is sponsored by VARGO. \nInside a World-Class E-Commerce Fulfillment Operation \nWhat does it really take to keep e-commerce fulfillment flowing smoothly\, especially during peak? Join us for an exclusive\, onsite tour of Gap’s distribution facility\, where you will see how one of the world’s leading retailers manages high-volume e-commerce demand with precision and consistency. \nThis two-hour\, behind-the-scenes experience is designed for operations leaders who want to optimize throughput\, stabilize labor\, and eliminate bottlenecks. You will observe waveless fulfillment in action and see how continuous flow keeps operations moving efficiently throughout the day. \nWhat You Will Learn: \nOptimize Throughput with Waveless Execution: see how continuous flow eliminates inefficiencies and significantly reduces cost per unit picked. \nIdentify & Resolve Operational Bottlenecks: learn how to spot friction points across fulfillment zones and apply proven tactics to smooth volume spikes before they threaten shipment deadlines. \nStabilize Labor Productivity: Understand how waveless fulfillment removes productivity valleys\, creating a steady pace that shortens order cycle time and reduces operational stress. \nWAREHOUSE OPERATIONS PROFILE \nProducts Handled: Apparel \n# of SKUs: 70K+ \n# of Employees: 100-150 pickers; 40-80 matchers \n# of Shifts: 2 \nWarehouse Size (in Sq. Ft): 1 million sq. ft. \nThroughput: 650K Units \nSystem Suppliers: Eurosort Bombay unit sorter; TGW ASRS \nIf you are looking for practical\, real-world insights you can apply immediately\, this tour delivers. \nRegistration is limited to the first 30 people. Reserve your space now! \nRSVP: Tuesday\, March 3\, 2026 \nSpecial Instructions: TBD \nCancellation Policy: You must cancel before the RSVP deadline to receive a refund of registration fees. Hosts may screen all registrants beforehand to avoid direct competitors attending. If there are any issues with your registration\, a member of the WERC team will contact you before the event day.
URL:https://supplychaney.com/event/facility-tour-gap-fresno-distribution-center-sponsored-by-vargo/
LOCATION:Gap Fresno Distribution Center\, 3685 Gap Dr\, Fresno\, United States
CATEGORIES:Facility Tour
ATTACH;FMTTYPE=image/png:https://supplychaney.com/wp-content/uploads/2026/01/facility-tour-gap-fresno-distribution-center-sponsored-by-vargo-9ae15ce1583e6b3bc5759873cac8ec69.png
END:VEVENT
BEGIN:VEVENT
DTSTART;TZID=America/Chicago:20260306T170000
DTEND;TZID=America/Chicago:20260307T170000
DTSTAMP:20260419T161624
CREATED:20260101T081222Z
LAST-MODIFIED:20260101T081222Z
UID:15014-1772816400-1772902800@supplychaney.com
SUMMARY:3rd Annual Gies Business Supply Chain Conference
DESCRIPTION:In today’s era\, businesses must manage their supply chains in a manner that minimizes their environmental impact and focuses on making ethically and socially responsible decisions. \nLearn the latest advances in these areas from academia and industry at the 2026 Gies Business Supply Chain Management Conference. \nTheme: Sustainability and Social Responsibility in Supply Chains \nDate: March 6-7\, 2026 \nLocation: I Hotel and Illinois Conference Center\, 1900 South First Street\, Champaign\, Illinois \nThe conference explores how organizations can minimize environmental impact and make ethical\, socially responsible decisions that create long-term value. \nThe conference will bring together leading academic researchers and industry professionals who share a commitment to advancing sustainable practices in supply chain management. \nIt also offers an opportunity for students to engage with current research and gain insight into emerging trends shaping the field.
URL:https://supplychaney.com/event/3rd-annual-gies-business-supply-chain-conference/
LOCATION:I Hotel and Illinois Conference Center\, 1900 South First Street\, Champaign\, USA
CATEGORIES:Conference
ATTACH;FMTTYPE=image/png:https://supplychaney.com/wp-content/uploads/2025/12/3rd-annual-gies-business-supply-chain-conference-91aab045088a5233f13183a8fe2f76f1.png
END:VEVENT
END:VCALENDAR