BEGIN:VCALENDAR
VERSION:2.0
PRODID:-//Supply Chaney - ECPv6.15.17.1//NONSGML v1.0//EN
CALSCALE:GREGORIAN
METHOD:PUBLISH
X-WR-CALNAME:Supply Chaney
X-ORIGINAL-URL:https://supplychaney.com
X-WR-CALDESC:Events for Supply Chaney
REFRESH-INTERVAL;VALUE=DURATION:PT1H
X-Robots-Tag:noindex
X-PUBLISHED-TTL:PT1H
BEGIN:VTIMEZONE
TZID:America/Chicago
BEGIN:DAYLIGHT
TZOFFSETFROM:-0600
TZOFFSETTO:-0500
TZNAME:CDT
DTSTART:20250309T080000
END:DAYLIGHT
BEGIN:STANDARD
TZOFFSETFROM:-0500
TZOFFSETTO:-0600
TZNAME:CST
DTSTART:20251102T070000
END:STANDARD
BEGIN:DAYLIGHT
TZOFFSETFROM:-0600
TZOFFSETTO:-0500
TZNAME:CDT
DTSTART:20260308T080000
END:DAYLIGHT
BEGIN:STANDARD
TZOFFSETFROM:-0500
TZOFFSETTO:-0600
TZNAME:CST
DTSTART:20261101T070000
END:STANDARD
BEGIN:DAYLIGHT
TZOFFSETFROM:-0600
TZOFFSETTO:-0500
TZNAME:CDT
DTSTART:20270314T080000
END:DAYLIGHT
BEGIN:STANDARD
TZOFFSETFROM:-0500
TZOFFSETTO:-0600
TZNAME:CST
DTSTART:20271107T070000
END:STANDARD
END:VTIMEZONE
BEGIN:VEVENT
DTSTART;TZID=America/Chicago:20260420T080000
DTEND;TZID=America/Chicago:20260420T113000
DTSTAMP:20260419T112756
CREATED:20260406T135946Z
LAST-MODIFIED:20260406T135946Z
UID:17048-1776672000-1776684600@supplychaney.com
SUMMARY:Incoterms® Rules for Importers & Exporters
DESCRIPTION:International Commercial Terms – Learn about the “Terms of Sale” which define the obligations\, risks\, and costs of the seller and buyer for the delivery of goods. \nLed by trade expert Trudy Wilson. An accomplished trade compliance consultant\, Licensed Customs Broker\, and author of the book ‘Mexico: Entering the Emerging Economy’ and ‘CANADA: Are you CANpliant – ABC’s of Canadian Trade Compliance.’
URL:https://supplychaney.com/event/incoterms-rules-for-importers-exporters/
LOCATION:TX
CATEGORIES:Webinar
ATTACH;FMTTYPE=image/png:https://supplychaney.com/wp-content/uploads/2026/03/incoterms-rules-for-importers-exporters-932d13042672f8cb83d11d7210d3f325.png
END:VEVENT
BEGIN:VEVENT
DTSTART;TZID=America/Chicago:20260420T170000
DTEND;TZID=America/Chicago:20260422T170000
DTSTAMP:20260419T112756
CREATED:20251103T160723Z
LAST-MODIFIED:20251103T160723Z
UID:13900-1776704400-1776877200@supplychaney.com
SUMMARY:Breakbulk and Project Cargo Conference 2026
DESCRIPTION:Breakbulk and project demand is returning to the sector after geopolitically-induced slowdown. Specialized carriers are optimistic about 2026\, while shipper expectations vary within industry sectors. Oil and gas\, power\, mining and metals are trending positively\, while chemicals and renewables are quieter. \nProject and breakbulk cargo shippers tell the Journal of Commerce that while uncertainty and chaos will continue into the first half of 2026\, US tariffs and fees will not be the only destabilizing forces. Unpredictability and the inability to plan have been added to the melee. The ability to recalibrate and to find new sourcing\, new industry partners and new approaches to counter the risks of unpredictability have never been more important. \nAfter a stagnant 2025\, when many shippers were either scrambling to adapt sourcing or waiting out rapid-fire announcements and tariff changes\, projects are reaching final decisions once again. Cargo demand for 2026 is particularly strong for oil and gas\, power and energy storage solutions. \nConference sessions will include discussions with subject matter experts on geopolitics\, energy and the MPV fleet\, in-depth panel sessions\, focus sessions and our popular interactive project cargo case study. Stellar high-level networking\, as always\, will be the lifeblood of the event. \nWe will be officially launching the Journal of Commerce Breakbulk Index. \nDiscussions planned for 2026 include:\n– Geopolitics and the global risk barometer\n– Global shipping outlook and cargo forecast\n– Managing sourcing and supply chain risk\n– Meeting the expectations of industry newcomers\n– Sustainability in 2026: calibrating global expectations\n– State of the multipurpose/heavy-lift fleet\n– Oil and gas\, cleantech and AI/electrification capex trends\n– The state of US inland transportation\n– FTZs\, transport risk management and customs
URL:https://supplychaney.com/event/breakbulk-and-project-cargo-conference-2026/
LOCATION:New Orleans\, New Orleans\, USA
CATEGORIES:Conference
ATTACH;FMTTYPE=image/png:https://supplychaney.com/wp-content/uploads/2025/11/breakbulk-and-project-cargo-conference-2026-67c7502de0798fea768f63849194039f.png
END:VEVENT
BEGIN:VEVENT
DTSTART;TZID=America/Chicago:20260420T170000
DTEND;TZID=America/Chicago:20260422T170000
DTSTAMP:20260419T112756
CREATED:20251211T201345Z
LAST-MODIFIED:20251211T201345Z
UID:14648-1776704400-1776877200@supplychaney.com
SUMMARY:North American Manufacturing Excellence Summit
DESCRIPTION:The North American Manufacturing Excellence Summit is a premier gathering of industry leaders\, manufacturing executives\, and experts dedicated to exploring innovative strategies\, emerging trends\, and best practices in the dynamic world of manufacturing management. \nNAMES gathers SVPs\, VPs\, and Directors of Manufacturing\, Supply Chain\, Operations\, and Quality\, Lean/CI/OpEx Executives\, and Plant Managers to share insights\, foster innovation\, and build invaluable connections. \nDive into a thoughtfully curated environment that brings together thought leaders\, allowing you to explore new ideas and engage in meaningful discussions. \nJoin the conversation at NAMES and be part of a community dedicated to pushing the limits of manufacturing success. \nEvent Statistics:\n– 400+ attendees are Director level and above\n– 91% Global Organizations\n– 200+ Renowned Speakers\n– 40+ Featured Speakers
URL:https://supplychaney.com/event/north-american-manufacturing-excellence-summit/
LOCATION:Hilton Americas\, Houston\, USA
CATEGORIES:Summit
ATTACH;FMTTYPE=image/png:https://supplychaney.com/wp-content/uploads/2025/12/north-american-manufacturing-excellence-summit-670a2097431db5b597d5ebf763be6a99.png
END:VEVENT
BEGIN:VEVENT
DTSTART;TZID=America/Chicago:20260420T170000
DTEND;TZID=America/Chicago:20260422T170000
DTSTAMP:20260419T112756
CREATED:20260124T013122Z
LAST-MODIFIED:20260124T013122Z
UID:15565-1776704400-1776877200@supplychaney.com
SUMMARY:NTTC Annual Conference 2026
DESCRIPTION:NTTC Annual Conference 2026 \nJoin industry leaders and professionals for the premier tank truck industry conference \nNetwork with peers and experts in the field \nExplore the latest industry trends and innovations \nParticipate in educational sessions and discussions \nVisit the exhibition area to see the latest products and services \nAttend special events including the TopGolf PAC fundraiser \nLocation: Baltimore\, Maryland
URL:https://supplychaney.com/event/nttc-annual-conference-2026-2/
LOCATION:Baltimore\, Baltimore\, USA
CATEGORIES:Conference
ATTACH;FMTTYPE=image/png:https://supplychaney.com/wp-content/uploads/2026/01/nttc-annual-conference-2026-c500f0576930c6cc740d24cf0b3a10c2.png
END:VEVENT
BEGIN:VEVENT
DTSTART;TZID=America/Chicago:20260420T170000
DTEND;TZID=America/Chicago:20260424T170000
DTSTAMP:20260419T112756
CREATED:20260204T235930Z
LAST-MODIFIED:20260204T235930Z
UID:15938-1776704400-1777050000@supplychaney.com
SUMMARY:Annual Conference
DESCRIPTION:Attracting industry owners\, CEOs\, top managers and leaders\, the SC&RA Annual Conference is conducted in late April\, and showcases some of the industry’s best education sessions and top speakers – woven into a week-long schedule that includes committee meetings\, receptions and countless networking opportunities. \nThis premier annual event also offers attendees activities and tours\, a fundraising gala\, the renowned Job of the Year competitions\, safety awards and an extraordinary Exhibit Center. As always\, Annual Conference attendees enjoy an unmatched opportunity to meet in person and discuss industry products and opportunities. \nIn addition to the President’s Reception\, the Annual Conference also boasts a First-Timers’ Reception\, an International Members Reception and even a Guitar Reception – all of it culminating on the final evening with the Annual Awards and Recognition Dinner. \nClosing out the Annual Conference as part of the final night ceremony is the highly anticipated presentation of awards. This portion of the program includes awards for membership longevity\, Job of the Year awards in eight categories\, the Environmental Award\, the Golden Achievement Award and the President’s Award. The prestigious Hauling and Rigging Job of the Year Awards buttress the end of the evening and provide an opportunity for members to recognize their fellow industry professionals for tremendous accomplishments in both innovation and application.
URL:https://supplychaney.com/event/annual-conference-2/
LOCATION:Omni Amelia Island\, Amelia Island\, USA
CATEGORIES:Conference
ATTACH;FMTTYPE=image/png:https://supplychaney.com/wp-content/uploads/2026/02/annual-conference-0da14e6dfef8c1f92d16a2c8eedf48cf.png
END:VEVENT
END:VCALENDAR