BEGIN:VCALENDAR
VERSION:2.0
PRODID:-//Supply Chaney - ECPv6.15.17.1//NONSGML v1.0//EN
CALSCALE:GREGORIAN
METHOD:PUBLISH
X-ORIGINAL-URL:https://supplychaney.com
X-WR-CALDESC:Events for Supply Chaney
REFRESH-INTERVAL;VALUE=DURATION:PT1H
X-Robots-Tag:noindex
X-PUBLISHED-TTL:PT1H
BEGIN:VTIMEZONE
TZID:America/Chicago
BEGIN:DAYLIGHT
TZOFFSETFROM:-0600
TZOFFSETTO:-0500
TZNAME:CDT
DTSTART:20250309T080000
END:DAYLIGHT
BEGIN:STANDARD
TZOFFSETFROM:-0500
TZOFFSETTO:-0600
TZNAME:CST
DTSTART:20251102T070000
END:STANDARD
BEGIN:DAYLIGHT
TZOFFSETFROM:-0600
TZOFFSETTO:-0500
TZNAME:CDT
DTSTART:20260308T080000
END:DAYLIGHT
BEGIN:STANDARD
TZOFFSETFROM:-0500
TZOFFSETTO:-0600
TZNAME:CST
DTSTART:20261101T070000
END:STANDARD
BEGIN:DAYLIGHT
TZOFFSETFROM:-0600
TZOFFSETTO:-0500
TZNAME:CDT
DTSTART:20270314T080000
END:DAYLIGHT
BEGIN:STANDARD
TZOFFSETFROM:-0500
TZOFFSETTO:-0600
TZNAME:CST
DTSTART:20271107T070000
END:STANDARD
END:VTIMEZONE
BEGIN:VEVENT
DTSTART;TZID=America/Chicago:20260504T060000
DTEND;TZID=America/Chicago:20260506T170000
DTSTAMP:20260419T161618
CREATED:20260127T140412Z
LAST-MODIFIED:20260127T140412Z
UID:15659-1777874400-1778086800@supplychaney.com
SUMMARY:Gartner Supply Chain Symposium/Xpo
DESCRIPTION:Gartner Supply Chain Symposium/Xpo is an opportunity to connect with your community and our experts. \nBuild and diversify your network by meeting forward-thinking CSCOs and senior supply chain executives. \nJoin us at The World’s Most Important Gathering of CSCOs and Supply Chain Executives to discover insights on how CSCOs and supply chain leaders should predict disruptions\, drive innovation and build resilient\, tech-enabled supply chains.
URL:https://supplychaney.com/event/gartner-supply-chain-symposium-xpo/
LOCATION:Walt Disney World Swan and Dolphin Resort\, 1500 Epcot Resorts Boulevard\, Orlando\, FL\, 32830\, United States
CATEGORIES:symposium
ATTACH;FMTTYPE=image/png:https://supplychaney.com/wp-content/uploads/2026/01/gartner-supply-chain-symposiumxpo-6368211dc3ac4ee8f107dc3a16d80a4a.png
END:VEVENT
BEGIN:VEVENT
DTSTART;TZID=America/Chicago:20260504T080000
DTEND;TZID=America/Chicago:20260506T170000
DTSTAMP:20260419T161618
CREATED:20251213T015417Z
LAST-MODIFIED:20251213T015417Z
UID:14709-1777881600-1778086800@supplychaney.com
SUMMARY:Tenstreet Annual User Conference 2026
DESCRIPTION:Join Tenstreet in Las Vegas from Monday May 4th to Wednesday May 6th for our 8th Annual User Conference! This special gathering is a chance for busy carriers to get a crash course on the state of the industry\, discover new solutions to their business problems\, network with peers in the industry\, and more –  all in just a few value-packed days. \nThis year’s event coincides with Tenstreet’s 20th anniversary of making life easier for drivers and carriers. Attendees can expect special surprises and a dedicated focus on how much has changed over the past two decades\, as well as where trucking—and Tenstreet—are headed in the future. \nThe conference will be held at the Bellagio Hotel in Las Vegas\, NV. We’ll be gathering our vendors\, our Tenstreet experts\, and our clients to connect and share knowledge\, with some Vegas fun squeezed in along the way.
URL:https://supplychaney.com/event/tenstreet-annual-user-conference-2026/
LOCATION:Bellagio Hotel\, Las Vegas\, USA
END:VEVENT
BEGIN:VEVENT
DTSTART;TZID=America/Chicago:20260504T140000
DTEND;TZID=America/Chicago:20260506T113000
DTSTAMP:20260419T161618
CREATED:20260308T014911Z
LAST-MODIFIED:20260308T014911Z
UID:16433-1777903200-1778067000@supplychaney.com
SUMMARY:2026 AHAA Spring Meeting
DESCRIPTION:Join us for AHAA’s annual spring meeting for speakers\, panels\, and the latest information in the trucking industry for auto haulers.
URL:https://supplychaney.com/event/2026-ahaa-spring-meeting/
LOCATION:Clearwater Beach Marriott-Sand Key\, 1201\, Gulf Boulevard\, Clearwater\, United States
CATEGORIES:meeting
ATTACH;FMTTYPE=image/png:https://supplychaney.com/wp-content/uploads/2026/03/2026-ahaa-spring-meeting-0c4ea18e32706b69b668fe345953c7e6.png
END:VEVENT
BEGIN:VEVENT
DTSTART;TZID=America/Chicago:20260504T170000
DTEND;TZID=America/Chicago:20260505T170000
DTSTAMP:20260419T161618
CREATED:20251213T015628Z
LAST-MODIFIED:20251213T015628Z
UID:14713-1777914000-1778000400@supplychaney.com
SUMMARY:eTail Toronto 2026
DESCRIPTION:The state of Canadian retail is at a crossroads. Come join the #1 community to power your career at eTail Toronto. This is where your next big breakthrough starts. \nThe Voices Defining Retail: Honest conversations\, real-world lessons\, and ideas that drive action. \n2026 speakers include: Dave Stevens (CTO\, Groupe Dynamite)\, Jeremiah Curvers (CEO\, Polysleep)\, Taran Ghatrora (CEO & Co-Founder\, Blume)\, Frederick LeCoq (Chief Marketing Officer\, Simons)\, Rohit Nathany (Chief Digital Officer\, Mejuri)\, Tina Luu (Co-Founder\, Head of Technology\, Fable)\, Justin Sannella (VP\, Strategic Partnerships & Product Strategy\, Holt Renfrew)\, Jason Travis (VP eCommerce\, Princess Auto)\, Thomas Hamilton (VP\, Sales & Marketing\, Snuggle Bugz)\, Janet Ihm (VP\, Channel Strategy & Digital Experience\, OCS)\, Melissa Lessard (Divisional Director\, Operations\, Strategy\, & Integration\, Couche-Tard)\, Karla Licea (Senior Content Manager\, Casper). \nExperience includes: Ask The Expert – Speed Round Q&A\, eTail First Timers Meetup\, Curated Private Tastings\, Women in eTail Breakfast. \nFor over 25 years\, eTail has been more than a conference—it’s been a catalyst for transformation in retail. Now\, we’re evolving into a 365-day-a-year ecosystem built to support your growth every step of the way. \nTrusted By Thousands of Retailers and Brands Since 1999 including: Adidas\, Amazon\, Asics\, Bath & Body Works\, Best Buy\, Cabelas\, Canada Goose\, Canadian Tire\, Citizen\, Costco\, Dyson\, Estee Lauder\, GE Appliances\, Harry Rosen\, Home Hardware\, Hudson’s Bay\, IKEA\, Lenovo\, Lindt\, Loblaws\, lululemon\, Mars\, Metro\, Nespresso\, Nestle\, New Balance\, Puma\, Reitmans\, Samsung\, Sleep Country Canada\, Staples\, Subway\, Hershey\, Roots Canada\, TJX\, Steve Madden\, Unilever\, Victoria’s Secret\, Walmart\, Zappos.
URL:https://supplychaney.com/event/etail-toronto-2026/
LOCATION:Hyatt Regency Toronto\, Toronto\, Canada
CATEGORIES:Conference
ATTACH;FMTTYPE=image/png:https://supplychaney.com/wp-content/uploads/2025/12/etail-toronto-2026-64f5f0820e0dd0bd2ef6ca464957efe2.png
END:VEVENT
BEGIN:VEVENT
DTSTART;TZID=America/Chicago:20260504T170000
DTEND;TZID=America/Chicago:20260506T170000
DTSTAMP:20260419T161618
CREATED:20251213T015111Z
LAST-MODIFIED:20251213T015111Z
UID:14706-1777914000-1778086800@supplychaney.com
SUMMARY:Gartner Supply Chain Symposium/Xpo™ 2026
DESCRIPTION:Join us at The World’s Most Important Gathering of CSCOs and Supply Chain Executives™ to discover insights on how CSCOs and supply chain leaders should predict disruptions\, drive innovation\, and build resilient\, tech-enabled supply chains. \nWhy Gartner conferences?\nSupply chain insights you can trust: Join us at the only supply chain conference shaped by data-driven insights and over 200\,000 annual conversations between Gartner experts and the supply chain community.\nValidate your strategy: Our global team of 60+ on-site experts helps you create and validate your game plan using actionable business and technology insights.\nGrow your supply chain circle: Connect with a diverse network of CSCOs and supply chain executives at a conference that prioritizes strategic dialogues and impactful collaborations. \n2026 Conference Topics at a Glance:\nAI and Emerging Technology: Now is the moment to prove the ROI of your AI and tech investments. Get sharp insights on where to double down\, where to cut back and how to scale breakthrough supply chain solutions for real\, measurable impact.\nCost Optimization: Relentless market volatility and supply chain shocks are squeezing margins like never before. Gain practical advice on how CSCOs can safeguard profitability\, maintain operational resilience and ensure their organizations remain competitive in an unpredictable environment.\nRisk and Resilience: Geopolitical turmoil\, economic swings\, natural disasters and sudden demand shifts — CSCOs are battling volatility on every front. Uncover bold strategies to tackle risk head-on\, build rock-solid resilience\, and keep your operations running smoothly to safeguard revenue and secure business continuity. \nFeatured Speakers:\nJose Reyes – Sr Director Analyst\, Gartner\nKen Chadwick – Distinguished VP\, Advisory\, Gartner\nMichael Ryan – Director\, Advisory\, Gartner\nBrenda Westbrook – Sr Director Analyst\, Gartner\nFareen Mehrzai – Sr Director Analyst\, Gartner \nSpecial Programs:\nThe CSCO Circle Program: Designed exclusively for CSCOs to focus on driving long-term growth for the supply chain and create invaluable networking among C-suite peers.\nChampions of Women in Supply Chain Luncheon: Designed to focus on building more inclusive supply chain organizations and leadership teams.
URL:https://supplychaney.com/event/gartner-supply-chain-symposium-xpo-2026/
LOCATION:Walt Disney World Swan and Dolphin Resort\, 1500 Epcot Resorts Boulevard\, Orlando\, FL\, 32830\, United States
CATEGORIES:symposium
ATTACH;FMTTYPE=image/png:https://supplychaney.com/wp-content/uploads/2025/12/gartner-supply-chain-symposiumxpo-2026-556403e9c1e2409d2a02b92f9e2ed595.png
END:VEVENT
BEGIN:VEVENT
DTSTART;TZID=America/Chicago:20260504T170000
DTEND;TZID=America/Chicago:20260507T170000
DTSTAMP:20260419T161618
CREATED:20260124T012837Z
LAST-MODIFIED:20260124T012837Z
UID:15558-1777914000-1778173200@supplychaney.com
SUMMARY:ACT Expo 2026
DESCRIPTION:The Largest Fleet Technology Show. \nConference: May 4 – 7\, 2026\nExpo Hall: May 4 – 6\, 2026 \nACT Expo delivers months of fleet education in just four days. Gain insight into the technologies\, trends\, and regulations transforming commercial transportation. \nExplore the innovations and trends reshaping fleet operations\, including:\nAdvanced Powertrains & Vehicle Innovations: Understand the engines and powertrains that will define the next decade\, including clean diesel\, hybrids\, natural gas\, propane\, battery-electric\, hydrogen\, and EPA27 standards.\nDigital Solutions for Peak Performance: Explore how telematics\, automation\, geolocation\, V2X\, and software-defined platforms are reshaping how fleets and shippers operate.\nEfficiency\, Productivity & Safety: Discover practical ways to reduce costs and improve reliability through aerodynamics\, lightweighting\, braking and stability systems\, advanced sensors\, and smarter maintenance.\nFuels\, Energy & Infrastructure: Gain practical guidance on how to power your fleet\, including diesel efficiency upgrades\, low-carbon and renewable fuels\, natural gas\, propane\, hydrogen\, and electric charging. \nWhat You’ll Experience:\nMainstage: Hear from the industry’s most powerful lineup of CEOs and C-suite executives.\nExpo Hall: Experience the largest showcase of advanced fleet solutions anywhere.\nTechnical Sessions: Join focused discussions tailored to fleet types and operational challenges.\nMedia Events: Be first to see the headlines that shape the industry.\nRide & Drive: Take the driver’s seat and put tomorrow’s fleet solutions to the test.\nExpo Hall Theater: Discover the latest products and technologies through fast-paced demos.\nPartner Events: Connect with leading organizations hosting specialized sessions. \nIndustry Leaders You’ll Learn From: Stephen Roy (President\, Mack Trucks)\, RJ Scaringe (Founder and CEO\, Rivian)\, Don Burnette (Founder and CEO\, Kodiak)\, Ossa Fisher (President\, Aurora)\, David Liu (CEO and Co-Founder\, PlusAI)\, Raquel Urtasun (Founder and CEO\, Waabi)\, Dr. Peter Vaughan Schmidt (CEO\, TORC).
URL:https://supplychaney.com/event/act-expo-2026/
LOCATION:LAS VEGAS CONVENTION CENTER\, 3150 Paradise Road\, Las Vegas\, NV\, USA
CATEGORIES:Expo
ATTACH;FMTTYPE=image/png:https://supplychaney.com/wp-content/uploads/2026/01/act-expo-2026-6a74a7256265bd52331101401b37bcb9.png
END:VEVENT
BEGIN:VEVENT
DTSTART;TZID=America/Chicago:20260504T170000
DTEND;TZID=America/Chicago:20260507T170000
DTSTAMP:20260419T161618
CREATED:20260308T155848Z
LAST-MODIFIED:20260308T155848Z
UID:16340-1777914000-1778173200@supplychaney.com
SUMMARY:ACT Expo
DESCRIPTION:The Largest Fleet Technology Show \nConference: May 4 – 7\, 2026 | Expo Hall: May 4 – 6\, 2026 \nGain insight into the technologies\, trends\, and regulations transforming commercial transportation. ACT Expo delivers months of fleet education in just four days. \nDiscover an expanded Expo Hall featuring hundreds of exhibitors showcasing the most advanced vehicle technologies and fuels available now. \nLearn from 300+ advanced commercial transportation experts. \nAttendees gain real-world insights from the innovative fleets and commercial transportation experts driving transformative change across North America and around the world. \nKeynote Speakers:\n– Stephen Roy\, President\, Mack Trucks and Chairman\, Volvo Group North America\, Mack Trucks: Mainstage – Keynote: Driving Commercial Vehicle Innovation (Tuesday\, May 5 — 9:55 am to 10:25 am)\n– RJ Scaringe\, Founder and Chief Executive Officer\, Rivian: Mainstage – Keynote: Igniting Change in Transportation (Wednesday\, May 6 — 9:10 am to 9:45 am)\n– John Smith\, Incoming president and Chief Executive Officer\, FedEx Freight: Mainstage – Keynote: Leading the Charge – The Future of Clean Fleet Operations (Monday\, May 4 — 2:10 pm to 2:35 pm) \nOther Featured Speakers:\n– Don Burnette\, Founder and Chief Executive Officer\, Kodiak\n– Mathias Carlbaum\, President and Chief Executive Officer\, International\n– David Carson\, Senior Vice President\, Sales & Marketing\, Daimler Truck North America\n– Ossa Fisher\, President\, Aurora\n– Michael Halbherr\, Chief Executive Officer\, ABB E-mobility\n– Steve Hanson\, Senior Director of Fleet Operations\, Engineering\, and Sustainability\, PepsiCo\n– John Harris\, Co-Founder and Chief Executive Officer\, Harbinger\n– Austin Henderson\, Chief Information Officer\, FirstFleet
URL:https://supplychaney.com/event/act-expo/
LOCATION:LAS VEGAS CONVENTION CENTER\, 3150 Paradise Road\, Las Vegas\, NV\, USA
CATEGORIES:Expo
ATTACH;FMTTYPE=image/png:https://supplychaney.com/wp-content/uploads/2026/03/act-expo-3dad963d98a9ab13bbd5a181e92f2ef4.png
END:VEVENT
BEGIN:VEVENT
DTSTART;VALUE=DATE:20260504
DTEND;VALUE=DATE:20260507
DTSTAMP:20260419T161618
CREATED:20251206T044344Z
LAST-MODIFIED:20251206T044344Z
UID:14430-1777935600-1778108399@supplychaney.com
SUMMARY:2026 TTA Legislative Fly-in
DESCRIPTION:2026 TTA Legislative Fly-in event in Washington\, D.C. \nEvent dates: May 5-6\, 2026 \nLocation: Washington\, D.C. \nOrganized by The Transportation Alliance \nContact information: (301) 984-5700 \nAddress: The Transportation Alliance\, 10340 Democracy Lane\, Suite 300\, Fairfax\, VA 22030
URL:https://supplychaney.com/event/2026-tta-legislative-fly-in/
LOCATION:Washington\, Washington\, United States
CATEGORIES:congress
ATTACH;FMTTYPE=image/png:https://supplychaney.com/wp-content/uploads/2025/12/2026-tta-legislative-fly-in-9f73fa721bf79132f4ae757dcc5bd50f.png
END:VEVENT
BEGIN:VEVENT
DTSTART;TZID=America/Chicago:20260505T080000
DTEND;TZID=America/Chicago:20260508T180000
DTSTAMP:20260419T161618
CREATED:20260307T015251Z
LAST-MODIFIED:20260307T015251Z
UID:16351-1777968000-1778263200@supplychaney.com
SUMMARY:14th LOGNET GLOBAL ANNUAL CONFERENCE
DESCRIPTION:The 14th Annual LOGNET Conference will be held in Panama City\, Panama\, bringing our community of members together for an event focused on connection\, collaboration\, and new opportunities. \nThis is a member-only gathering\, designed to give you real time with industry peers who understand your challenges and share your goals. \nThe smaller\, focused setting makes it easier to have meaningful conversations\, exchange ideas\, and form strong partnerships that last. \nOver 4 days\, you can expect a mix of business sessions\, networking activities\, and open discussions that highlight both global trends and local opportunities. \nWith Panama’s rich history and its role as a hub of world trade\, the city provides the perfect backdrop for building stronger relationships and looking ahead to the future of logistics. \nMore than just another industry event\, this conference is your chance to strengthen your network\, learn from fellow members\, and enjoy an atmosphere built around trust and collaboration. \nAGENDA:\nMonday\, 4 May 2026: 14:00-19:00 Onsite Registration\nTuesday\, 5 May 2026: 9:00-21:00 Onsite Registration\, 10:00-12:00 Team based Activities\, 19:00-21:00 Welcome Cocktail Reception\nWednesday\, 6 May 2026: 10:00-17:00 Onsite Registration\, 10:30-11:00 Coffee Break\, 11:00-11:50 Plenary Session\, 12:00-13:40 Buffet Lunch\, 13:40-17:00 One-on-One Meetings\, 15:00-15:40 Coffee Break\, 18:20-18:40 Board the Shuttle to Dinner Venue\, 19:00-22:10 LOGNET Dinner\, 21:45-22:15 Shuttle back to Hilton Panama\nThursday\, 7 May 2026: 9:00-17:00 Registration/Information Counter Open\, 10:00-17:00 One-on-One Meetings\, 10:00-10:40 Coffee Break\, 12:00-13:40 Buffet Lunch\, 15:00-15:40 Coffee Break\nFriday\, 8 May 2026: 9:00-17:00 Registration/Information Counter Open\, 10:00-17:00 One-on-One Meetings\, 10:00-10:40 Coffee Break\, 12:00-13:40 Buffet Lunch\, 15:00-15:40 Coffee Break\, 17:00-19:00 Farewell Cocktail
URL:https://supplychaney.com/event/14th-lognet-global-annual-conference/
LOCATION:Hilton Panama\, Panama City\, Panama
CATEGORIES:Conference
ATTACH;FMTTYPE=image/png:https://supplychaney.com/wp-content/uploads/2026/03/14th-lognet-global-annual-conference-add7f534b841da13dd5e6ca928d589b8.png
END:VEVENT
BEGIN:VEVENT
DTSTART;TZID=America/Chicago:20260505T090000
DTEND;TZID=America/Chicago:20260506T140000
DTSTAMP:20260419T161618
CREATED:20260130T195942Z
LAST-MODIFIED:20260130T195942Z
UID:15788-1777971600-1778076000@supplychaney.com
SUMMARY:Fastener Fair USA 2026
DESCRIPTION:Fastener Fair USA is the premier exhibition in the U.S. dedicated to the full supply chain–distributors\, mechanical and design engineers\, purchasers\, wholesalers and OEMs. \nFrom automotive to aerospace\, construction to HVAC\, furniture to appliances\, fastener professionals from every segment of the market find the latest products they need at Fastener Fair USA. \nThe next edition of Fastener Fair USA will be held in Charlotte\, NC. \nCombining a comprehensive display of industry innovation with highly relevant education and unmatched opportunities to connect with peers and industry experts\, Fastener Fair USA is a trade show experience unlike any other. \nShow Dates:\nTuesday\, May 5th: 10:00 AM – 5:00 PM\nWednesday\, May 6th: 10:00 AM – 3:00 PM \nThis edition also features the ALUMINUM Fabrication Summit taking place May 5 & 6 at Charlotte Convention Center.
URL:https://supplychaney.com/event/fastener-fair-usa-2026/
LOCATION:Charlotte Convention Center\, 501 S College St\, Charlotte\, USA
CATEGORIES:Trade Show
ATTACH;FMTTYPE=image/png:https://supplychaney.com/wp-content/uploads/2026/01/fastener-fair-usa-2026-55d871d15530cad3db1a81523bf63ad8.png
END:VEVENT
BEGIN:VEVENT
DTSTART;TZID=America/Chicago:20260505T170000
DTEND;TZID=America/Chicago:20260506T170000
DTSTAMP:20260419T161618
CREATED:20260130T195548Z
LAST-MODIFIED:20260130T195548Z
UID:15780-1778000400-1778086800@supplychaney.com
SUMMARY:SME FUSION
DESCRIPTION:SME FUSION builds on a rich history of sharing best practices for attracting\, developing\, and retaining talent\, bringing together leaders from manufacturing\, education\, government\, and community-based organizations. \nYou’re invited to the industry’s premier event focusing on manufacturing training and workforce development. At SME FUSION 2026\, speakers will share actionable insights and strategies to fill the workforce pipeline\, efficiently onboard and train new hires\, upskill existing talent\, or transfer institutional knowledge.
URL:https://supplychaney.com/event/sme-fusion/
LOCATION:Nashville\, Nashville\, USA
CATEGORIES:Conference
ATTACH;FMTTYPE=image/png:https://supplychaney.com/wp-content/uploads/2026/01/sme-fusion-0294c4769dbc5d14c74b97fbb35426a8.png
END:VEVENT
END:VCALENDAR