BEGIN:VCALENDAR
VERSION:2.0
PRODID:-//Supply Chaney - ECPv6.15.17.1//NONSGML v1.0//EN
CALSCALE:GREGORIAN
METHOD:PUBLISH
X-ORIGINAL-URL:https://supplychaney.com
X-WR-CALDESC:Events for Supply Chaney
REFRESH-INTERVAL;VALUE=DURATION:PT1H
X-Robots-Tag:noindex
X-PUBLISHED-TTL:PT1H
BEGIN:VTIMEZONE
TZID:America/Chicago
BEGIN:DAYLIGHT
TZOFFSETFROM:-0600
TZOFFSETTO:-0500
TZNAME:CDT
DTSTART:20250309T080000
END:DAYLIGHT
BEGIN:STANDARD
TZOFFSETFROM:-0500
TZOFFSETTO:-0600
TZNAME:CST
DTSTART:20251102T070000
END:STANDARD
BEGIN:DAYLIGHT
TZOFFSETFROM:-0600
TZOFFSETTO:-0500
TZNAME:CDT
DTSTART:20260308T080000
END:DAYLIGHT
BEGIN:STANDARD
TZOFFSETFROM:-0500
TZOFFSETTO:-0600
TZNAME:CST
DTSTART:20261101T070000
END:STANDARD
BEGIN:DAYLIGHT
TZOFFSETFROM:-0600
TZOFFSETTO:-0500
TZNAME:CDT
DTSTART:20270314T080000
END:DAYLIGHT
BEGIN:STANDARD
TZOFFSETFROM:-0500
TZOFFSETTO:-0600
TZNAME:CST
DTSTART:20271107T070000
END:STANDARD
END:VTIMEZONE
BEGIN:VEVENT
DTSTART;TZID=America/Chicago:20260511T080000
DTEND;TZID=America/Chicago:20260514T170000
DTSTAMP:20260419T161618
CREATED:20251213T022200Z
LAST-MODIFIED:20251213T022200Z
UID:14725-1778486400-1778778000@supplychaney.com
SUMMARY:Inspire: The Network Effect
DESCRIPTION:Tap into exponential growth. Don’t miss this exclusive opportunity to join top finance\, procurement\, supply chain\, and IT leaders at Coupa Inspire and discover how an AI-native ecosystem leads to competitive advantage.
URL:https://supplychaney.com/event/inspire-the-network-effect/
LOCATION:ARIA Resort\, 3730 S Las Vegas Blvd\, Las Vegas\, USA
END:VEVENT
BEGIN:VEVENT
DTSTART;TZID=America/Chicago:20260512T170000
DTEND;TZID=America/Chicago:20260514T170000
DTSTAMP:20260419T161618
CREATED:20260130T195756Z
LAST-MODIFIED:20260130T195756Z
UID:15784-1778605200-1778778000@supplychaney.com
SUMMARY:the[PACK]out®– A Conference for Healthcare Packaging Professionals
DESCRIPTION:Celebrate the discipline of healthcare packaging. \nThis is not your average healthcare packaging conference. the[PACK]out® is built for the industry\, by the industry. \nConnect with Your Community: We’re your people. Learn from and make new connections with like-minded healthcare packaging professionals. \nExpand Your Knowledge: Stay on the cutting edge of the healthcare packaging industry and learn from industry experts. \nRe-energize Your Career: Healthcare packaging is often a misunderstood discipline. But we get it. Join us for a collective experience to reignite your passion\, drive and curiosity. Feel empowered by joining a community of passionate\, engaged healthcare packaging professionals hungry to expand their knowledge and network. \nWe’re in the business of making healthcare packaging better. \nCurated educational tracks for every level. Whether you’re new to healthcare packaging or a seasoned pro\, join us to expand your industry knowledge with the latest thought leadership\, research\, and innovation. \nChoose your own adventure in what topics you’ll benefit from the most: Technology and innovation\, Regulatory and standards\, State of the supply chain\, Sustainability\, Packaging design\, Packaging materials\, Packaging process qualification and validation\, Package testing and inspection. \nBe prepared for an experience like no other. Enjoy all that the[PACK]out® has to offer through professional development\, networking events\, mentorship opportunities and more. \nthe[PACK]out® is an annual conference created by industry peers to advance the field of healthcare packaging. This engaging conference experience is unlike any other. the[PACK]out® brings together a community of like-minded professionals to build relationships\, expand knowledge\, and innovate to grow the industry we love. With a nonprofit operating model\, the[PACK]out® gives back to industry by investing in academia\, funding research\, supporting industry organizations\, and other creative ideas still in the works. We’re fired up and excited about the future of healthcare packaging. Invest in your career and the industry – join us! \nFounders: Jill Cinalli\, Kiley Djupstrom\, Jenn Goff\, Cassie Ladd\, Karen Polkinghorne\, Sarah Rosenblum Ptach
URL:https://supplychaney.com/event/thepackout-a-conference-for-healthcare-packaging-professionals/
LOCATION:MGM National Harbor Hotel & Casino\, Oxon Hill\, USA
CATEGORIES:Conference
ATTACH;FMTTYPE=image/png:https://supplychaney.com/wp-content/uploads/2026/01/thepackout-a-conference-for-healthcare-packaging-professionals-4a5d959a989010f0418ff92f4b5af5bd.png
END:VEVENT
BEGIN:VEVENT
DTSTART;TZID=America/Chicago:20260512T170000
DTEND;TZID=America/Chicago:20260514T170000
DTSTAMP:20260419T161618
CREATED:20260130T202218Z
LAST-MODIFIED:20260130T202218Z
UID:15806-1778605200-1778778000@supplychaney.com
SUMMARY:2026 AMS Annual Conference
DESCRIPTION:Whether you’re a seasoned researcher or a student just starting out\, you’ll find a warm welcome and a supportive community at the AMS Annual Conference. \nThe conference features a wide range of sessions\, including refereed paper sessions\, research-in-progress sessions\, panels\, workshops\, and other special invited sessions. \nIn addition to the academic sessions\, AMS conferences also offer a variety of social and networking opportunities\, such as nightly receptions and an awards banquets. \nWhether you’re looking for cutting-edge research\, valuable networking opportunities or a friendly and supportive environment of your peers and mentors\, you’ll find it at the AMS Annual Conference. \n2026 AMS Annual Conference: Crafting Shape in a Fluid World – The Intersection of Marketing and External Forces \nProgram Chairs: Kevin James (University of Texas – Tyler) and Janna Parker (James Madison University) \nMary Kay Dissertation Competition details available \n2026 Doctoral Consortium Program \nGenerative AI Certificate Workshop – Date/Time to be Announced \nAuthors (or at least one author) of accepted papers are required to register for the Annual Conference AND to present the accepted research at the time designated in the conference program.
URL:https://supplychaney.com/event/2026-ams-annual-conference/
LOCATION:Hyatt Regency Savannah\, Two W Bay Street\, Savannah\, 31401\, USA
CATEGORIES:Conference
ATTACH;FMTTYPE=image/png:https://supplychaney.com/wp-content/uploads/2026/01/2026-ams-annual-conference-3b23d508f5d9f09d0121315403440567.png
END:VEVENT
BEGIN:VEVENT
DTSTART;TZID=America/Chicago:20260514T170000
DTEND;TZID=America/Chicago:20260515T170000
DTSTAMP:20260419T161618
CREATED:20260101T081318Z
LAST-MODIFIED:20260101T081318Z
UID:15007-1778778000-1778864400@supplychaney.com
SUMMARY:AIMOR @ Banff – Workshop on AI/ML in Operations Management Research
DESCRIPTION:Following the success of our inaugural workshop\, we are delighted to invite you to the second workshop on Artificial Intelligence and Machine Learning in Operations Management Research (AIMOR) at the heart of the beautiful Canadian Rocky Mountains. \nThis two-day workshop is designed to explore and advance the integration of AI/ML with Operations Management research. \nThe event is scheduled to take place on May 14–15\, 2026\, at the Royal Canadian Lodge in Banff\, Alberta. \nAIMOR provides an intimate setting to exchange cutting-edge ideas with world-class researchers and present your research. \nThis year we will have two distinguished speakers who are leading experts in the field:\nProf. Amy Ward from the University of Chicago\nProf. Warren Powell from Princeton University \nThey will deliver tutorials on selected topics in this exciting field and present an in-depth discussion on how to incorporate AI/ML in OM research\, while being impactful and successful in generating top-tier journal publications. \nRegistration fees include three nights of accommodation\, breakfast\, lunch\, and refreshments on both workshop days\, and a conference dinner. \nSubmission Details: We invite you to submit an abstract or express your interest in participating by Saturday\, January 31\, 2026. \nThe first-round decisions will be communicated by Friday\, February 6\, 2026. \nThe registration deadline is February 23\, 2026.
URL:https://supplychaney.com/event/aimor-banff-workshop-on-ai-ml-in-operations-management-research/
LOCATION:Royal Canadian Lodge\, Banff\, Canada
CATEGORIES:Workshop
ATTACH;FMTTYPE=image/png:https://supplychaney.com/wp-content/uploads/2025/12/aimor-at-banff-workshop-on-aiml-in-operations-management-research-f882c2d8ec94ef171f6240cfb37f8472.png
END:VEVENT
BEGIN:VEVENT
DTSTART;TZID=America/Chicago:20260514T170000
DTEND;TZID=America/Chicago:20260515T170000
DTSTAMP:20260419T161618
CREATED:20260205T000804Z
LAST-MODIFIED:20260205T000804Z
UID:15960-1778778000-1778864400@supplychaney.com
SUMMARY:LogiSYM Asia Pacific 2026
DESCRIPTION:LogiSYM Asia Pacific 2026 is a two-day symposium scheduled for 14 – 15 May 2026 as an on-site event\, held in Singapore EXPO. \nWho should attend:\nCEOs\, COOs\, VPs\, General Managers\, Directors\, Heads of Department\, Senior Managers and Managers of: Supply Chain\, Logistics\, Warehouse\, Operations\, Materials Management\, Sales Inventory and Operations Planning (SIOP)\, REIT’s and Asset Managers\, Inventory Planning and Control\, Transportation\, Packaging\, Quality Assurance\, Procurement\, Automation and Robotics\, E-commerce Logistics\, Technology and IT\, Trade Compliance\, Logistics Analyst \nFrom the following industries: Manufacturing\, Retail\, E-commerce\, Pharmaceuticals & Healthcare\, FMCG\, Automotive\, Construction\, Electronics & Semiconductor\, Oil and Gas\, Deep Technology\, Consulting \nWhy Attend?\nStay Informed on Industry Trends: Learn about the latest advancements in end-to-end supply chain.\nExclusive Case Studies: Gain insights from real-world scenarios to enhance your understanding and decision-making skills.\nNetworking Opportunities: Connect with industry experts\, peers\, and potential business partners.\nProblem-Solving Sessions: Gain insights and solutions to common challenges in supply chain operations.\nInnovation Showcase/Skunkworks: Discover cutting-edge technologies and solutions transforming supply chain.\nBest Practices Sharing: Learn from successful case studies and industry best practices.\nProfessional Development: Enhance skills and knowledge relevant to the evolving field of supply chain. \nSolution Providers:\nThis is a brief listing of some of the leading-edge companies who will be showcasing their innovative solutions\, to help you optimise your end-to-end supply chain: Logistics Automation Companies\, Supply Chain Software Providers\, Material Handling Equipment Suppliers\, Technology & IT Solutions\, Transportation and Fleet Management Companies\, Packaging Solutions Providers\, Logistics Services\, Infrastructure Solutions\, Last-Mile Delivery and Fulfillment Companies\, Deep Technology Solutions Providers. \nBusiness Development Opportunities:\nIs your company offering services\, solutions\, or technologies that could be of interest to the attendees? If this is the case\, you can explore further details about the opportunities for exhibiting\, networking and enhancing your brand presence by reaching out to Harjeet Chekhire via email at harjeet@logisym.org.
URL:https://supplychaney.com/event/logisym-asia-pacific-2026/
LOCATION:Singapore EXPO\, Singapore\, Singapore
CATEGORIES:symposium
ATTACH;FMTTYPE=image/png:https://supplychaney.com/wp-content/uploads/2026/02/logisym-asia-pacific-2026-11141ab9d3fd8e0126e39311ea9742e8.png
END:VEVENT
END:VCALENDAR