BEGIN:VCALENDAR
VERSION:2.0
PRODID:-//Supply Chaney - ECPv6.15.17.1//NONSGML v1.0//EN
CALSCALE:GREGORIAN
METHOD:PUBLISH
X-WR-CALNAME:Supply Chaney
X-ORIGINAL-URL:https://supplychaney.com
X-WR-CALDESC:Events for Supply Chaney
REFRESH-INTERVAL;VALUE=DURATION:PT1H
X-Robots-Tag:noindex
X-PUBLISHED-TTL:PT1H
BEGIN:VTIMEZONE
TZID:America/Chicago
BEGIN:DAYLIGHT
TZOFFSETFROM:-0600
TZOFFSETTO:-0500
TZNAME:CDT
DTSTART:20250309T080000
END:DAYLIGHT
BEGIN:STANDARD
TZOFFSETFROM:-0500
TZOFFSETTO:-0600
TZNAME:CST
DTSTART:20251102T070000
END:STANDARD
BEGIN:DAYLIGHT
TZOFFSETFROM:-0600
TZOFFSETTO:-0500
TZNAME:CDT
DTSTART:20260308T080000
END:DAYLIGHT
BEGIN:STANDARD
TZOFFSETFROM:-0500
TZOFFSETTO:-0600
TZNAME:CST
DTSTART:20261101T070000
END:STANDARD
BEGIN:DAYLIGHT
TZOFFSETFROM:-0600
TZOFFSETTO:-0500
TZNAME:CDT
DTSTART:20270314T080000
END:DAYLIGHT
BEGIN:STANDARD
TZOFFSETFROM:-0500
TZOFFSETTO:-0600
TZNAME:CST
DTSTART:20271107T070000
END:STANDARD
END:VTIMEZONE
BEGIN:VEVENT
DTSTART;TZID=America/Chicago:20260524T080000
DTEND;TZID=America/Chicago:20260528T170000
DTSTAMP:20260419T161451
CREATED:20260126T184602Z
LAST-MODIFIED:20260126T184603Z
UID:15693-1779609600-1779987600@supplychaney.com
SUMMARY:IEEE International Conference on Communications 2026
DESCRIPTION:We\, Professor Muhammad Zeeshan Shakir and Professor Muhammad Ali Imran\, along with the ICC 2026 team\, are delighted to welcome you to the upcoming IEEE International Conference on Communications (ICC) 2026\, taking place in the vibrant city of Glasgow\, Scotland\, from 24th to 28th May 2026.\n\nGlasgow—an IEEE City—is renowned not only for its rich history and cultural heritage but also as a hub of scientific innovation\, technological advancement\, and academic excellence. Home to four distinguished universities—the University of Glasgow\, the University of the West of Scotland\, the University of Strathclyde\, and Glasgow Caledonian University—this dynamic city seamlessly blends intellectual brilliance with warm Scottish hospitality.\n\nIEEE ICC 2026 will be held at the Scottish Event Campus (SEC) and the Crowne Plaza Hotel\, two of Glasgow’s premier venues. Themed “Connected World for a Sustainable Future\,” this flagship conference of the IEEE Communications Society will present a comprehensive and high-quality technical program\, featuring 12 symposia\, cutting-edge tutorials\, and diverse workshops spanning the full spectrum of communications research and innovation.\n\nWe are equally excited to deliver a strong industry program\, led by global experts from academia\, industry\, and government. The program will include keynotes\, high-level panels\, industry forums\, and technology exhibitions\, providing an excellent platform for collaboration\, exchange\, and inspiration.\n\nWith the support of our volunteers and sponsors\, we are committed to making ICC 2026 not just another conference\, but a memorable experience for all attendees.\n\nWe encourage you to submit your papers\, proposals\, and contributions and to stay updated via our conference website\, launching in the coming days. Please follow the site for upcoming deadlines and submission guidelines.\n\nWe very much look forward to welcoming you to Glasgow to learn\, share\, network\, and shape the future of global communications in a world striving for sustainability.\nThank you and see you in Glasgow! \nBest regards\,\nProfessor Muhammad Zeeshan Shakir\nProfessor Muhammad Ali Imran\nIEEE ICC 2026 Executive Chairs
URL:https://supplychaney.com/event/ieee-international-conference-on-communications-2026/
LOCATION:Glasgow\, Scotland
END:VEVENT
END:VCALENDAR