BEGIN:VCALENDAR
VERSION:2.0
PRODID:-//Supply Chaney - ECPv6.15.17.1//NONSGML v1.0//EN
CALSCALE:GREGORIAN
METHOD:PUBLISH
X-WR-CALNAME:Supply Chaney
X-ORIGINAL-URL:https://supplychaney.com
X-WR-CALDESC:Events for Supply Chaney
REFRESH-INTERVAL;VALUE=DURATION:PT1H
X-Robots-Tag:noindex
X-PUBLISHED-TTL:PT1H
BEGIN:VTIMEZONE
TZID:America/Chicago
BEGIN:DAYLIGHT
TZOFFSETFROM:-0600
TZOFFSETTO:-0500
TZNAME:CDT
DTSTART:20250309T080000
END:DAYLIGHT
BEGIN:STANDARD
TZOFFSETFROM:-0500
TZOFFSETTO:-0600
TZNAME:CST
DTSTART:20251102T070000
END:STANDARD
BEGIN:DAYLIGHT
TZOFFSETFROM:-0600
TZOFFSETTO:-0500
TZNAME:CDT
DTSTART:20260308T080000
END:DAYLIGHT
BEGIN:STANDARD
TZOFFSETFROM:-0500
TZOFFSETTO:-0600
TZNAME:CST
DTSTART:20261101T070000
END:STANDARD
BEGIN:DAYLIGHT
TZOFFSETFROM:-0600
TZOFFSETTO:-0500
TZNAME:CDT
DTSTART:20270314T080000
END:DAYLIGHT
BEGIN:STANDARD
TZOFFSETFROM:-0500
TZOFFSETTO:-0600
TZNAME:CST
DTSTART:20271107T070000
END:STANDARD
END:VTIMEZONE
BEGIN:VEVENT
DTSTART;TZID=America/Chicago:20260531T170000
DTEND;TZID=America/Chicago:20260603T170000
DTSTAMP:20260419T161437
CREATED:20260208T004236Z
LAST-MODIFIED:20260208T004236Z
UID:16003-1780246800-1780506000@supplychaney.com
SUMMARY:Tecsys User Conference 2026
DESCRIPTION:Join the leading voices in supply chain for three days of insights and innovation. \nGet ready for a conference packed with actionable insights and inspiring sessions. \nFrom inspiring keynotes to breakthrough product announcements and powerful connections\, revisit an unforgettable week in Nashville. \nEarly bird registration is now open! Secure your spot before February 28\, 2026\, for the discounted rate of $850 USD (full price $995). Group rates available.
URL:https://supplychaney.com/event/tecsys-user-conference-2026/
LOCATION:Grand Hyatt Nashville\, Nashville\, USA
CATEGORIES:Conference
ATTACH;FMTTYPE=image/png:https://supplychaney.com/wp-content/uploads/2026/02/tecsys-user-conference-2026-edf433eae4631b1e8a5f2ba82a977541.png
END:VEVENT
BEGIN:VEVENT
DTSTART;TZID=America/Chicago:20260601T080000
DTEND;TZID=America/Chicago:20260603T170000
DTSTAMP:20260419T161437
CREATED:20251218T211158Z
LAST-MODIFIED:20251218T211306Z
UID:14899-1780300800-1780506000@supplychaney.com
SUMMARY:ATA National Accounting & Finance Council (NAFC) Annual Conference & Exhibition
DESCRIPTION:ATA National Accounting & Finance Council (NAFC) Annual Conference & Exhibition \nOmni William Penn Hotel\nPittsburgh\, PA
URL:https://supplychaney.com/event/ata-national-accounting-finance-council-nafc-annual-conference-exhibition/
LOCATION:OMNI William Penn\, 530 William Penn Pl\, Pittsburgh\, USA
END:VEVENT
BEGIN:VEVENT
DTSTART;TZID=America/Chicago:20260601T170000
DTEND;TZID=America/Chicago:20260604T170000
DTSTAMP:20260419T161437
CREATED:20260130T195216Z
LAST-MODIFIED:20260130T195216Z
UID:15774-1780333200-1780592400@supplychaney.com
SUMMARY:Realize LIVE Americas 2026
DESCRIPTION:Realize LIVE Americas 2026 is our community of thinkers and doers in design\, manufacturing and lifecycle management to accelerate your digital transformation. \nJoin us in Detroit\, Michigan from June 1-4\, 2026 with 3\,000+ attendees and 450+ sessions. \nAccelerate your digital transformation journey by learning from experts and industry leaders\, building skills and discovering the latest trends and technology. \nBecome a better user and leave more productive. In 2025\, 90% of attendees left with new skills and enhanced tool proficiency. \nBe inspired by thought leaders. In 2025\, 65% of Realize LIVE sessions were led by customers\, sharing real-world insights and innovations. \nStay ahead with product roadmaps through exclusive product presentations showcasing the latest advancements in Siemens technology. \nGain exclusive hands-on training and certification with complimentary hands-on training\, 60 days access to Siemens Xcelerator Academy and 20 lab hours. \nDive into the Siemens ecosystem by meeting with experts\, engaging with partners and experiencing live demos in the Solutions Center. \nEvent experiences include breakout sessions\, technical tracks\, training and certification\, Solutions Center\, Innovation community\, and sponsor networking.
URL:https://supplychaney.com/event/realize-live-americas-2026/
LOCATION:Detroit\, Detroit\, USA
CATEGORIES:Conference
ATTACH;FMTTYPE=image/png:https://supplychaney.com/wp-content/uploads/2026/01/realize-live-americas-2026-037187fb2eb62bd23a1993630a99c4f7.png
END:VEVENT
BEGIN:VEVENT
DTSTART;TZID=America/Chicago:20260602T170000
DTEND;TZID=America/Chicago:20260603T170000
DTSTAMP:20260419T161437
CREATED:20260308T013711Z
LAST-MODIFIED:20260308T013711Z
UID:16407-1780419600-1780506000@supplychaney.com
SUMMARY:DLA Supply Chain Alliance Symposium & Exhibition
DESCRIPTION:The DLA Supply Chain Alliance Symposium & Exhibition is hosted by the National Defense Industrial Association in partnership with the Defense Logistics Agency’s supply chains to provide a forum to discuss logistics support strategies and challenges\, and to streamline efforts to better support the warfighter. \nThe forum draws together government and industry leaders to discuss military sustainment. \nDynamic speakers from Industry and Defense with backgrounds in logistics and acquisition\, as well as General and Flag Officers from the military services will provide critical perspectives across elements of the end-to-end DOW supply chain along with breakout sessions that will give valuable insight on doing business with DLA. \nThis two-day event will bring together Government and Industry leaders to discuss current and future challenges. \nHear directly from leading Industry Executives\, DOW Senior officials\, as well as multiple General/Flag officers. \nWe will also be facilitating Small Business Matchmaking\, breakout sessions for a variety of topics\, and creating networking opportunities. \nNo matter if you are a small business looking to begin a working relationship with DLA or an established large business that wants to strengthen the relationship you have already developed\, we look forward to your participation at this event. \nDLA welcomes new businesses that want to join the team and those businesses that have been working with us for years. \nJoin us and learn more about DLA\, and how we can partner together to continually improve warfighter support!
URL:https://supplychaney.com/event/dla-supply-chain-alliance-symposium-exhibition/
LOCATION:Greater Columbus Convention Center\, 400 North High Street\, Columbus\, OH\, 43215\, United States
CATEGORIES:symposium
ATTACH;FMTTYPE=image/png:https://supplychaney.com/wp-content/uploads/2026/03/dla-supply-chain-alliance-symposium-exhibition-3fbc139bc67f73130d87982fcbb84afa.png
END:VEVENT
BEGIN:VEVENT
DTSTART;TZID=America/Chicago:20260602T170000
DTEND;TZID=America/Chicago:20260604T170000
DTSTAMP:20260419T161437
CREATED:20251215T175155Z
LAST-MODIFIED:20251215T175155Z
UID:14821-1780419600-1780592400@supplychaney.com
SUMMARY:Railway Interchange Exhibition
DESCRIPTION:The 2026 Railway Interchange Exhibition will be held June 2-4\, 2026\, in Omaha\, NE. \nExhibit at this railroad conference and be in the room with decision-makers from all facets of the industry\, including Class Is\, regional\, short line\, transit\, commuter rail\, and government. \nEngage with customers in a convenient\, welcoming environment. \nGet more business done at this railroad conference in three days than any other time of year. \nSupport the railway industry and the professionals who work in it. \nStay on top of industry trends and education.
URL:https://supplychaney.com/event/railway-interchange-exhibition/
LOCATION:Omaha\, Omaha\, USA
CATEGORIES:Trade Show
ATTACH;FMTTYPE=image/png:https://supplychaney.com/wp-content/uploads/2025/12/railway-interchange-exhibition-2582ab758da1ac2ca590be8f90d28bc4.png
END:VEVENT
BEGIN:VEVENT
DTSTART;TZID=America/Chicago:20260602T180000
DTEND;TZID=America/Chicago:20260604T150000
DTSTAMP:20260419T161437
CREATED:20251221T021611Z
LAST-MODIFIED:20251221T021611Z
UID:14911-1780423200-1780585200@supplychaney.com
SUMMARY:DELIVER EUROPE 2026
DESCRIPTION:DELIVER EUROPE 2026 is a premier retail\, brand\, and supply chain conference and networking event held in Amsterdam. \nThe event features keynote sessions\, breakout sessions\, 1-1 meetings\, networking parties\, and award ceremonies over three days. \nKey themes include:\n– The Future of Artificial Intelligence is Now: Exploring AI’s impact on business and society\n– Net-Zero and Beyond: Sustainable and circular supply chain solutions\n– Cross-Chain Collaboration: End-to-end supply chain innovation\n– Supply Chain Leadership: Human-centric\, purpose-driven leadership approaches \nEvent highlights include:\n– Elite Dinner (June 2): Exclusive invite-only evening for top retail and supply chain leaders\n– Keynote Sessions: Expert speakers opening the show\n– Breakout Sessions: Sponsors showcasing latest innovative solutions\n– 1-1 Meetings: Prescheduled meetings to fit your agenda\n– DELIVER Vendor Awards Ceremony: Recognizing top supply chain and logistics trailblazers\n– Networking Party: Evening social event with drinks and entertainment\n– Women in Retail Breakfast (June 4): Exclusive gathering celebrating women in retail leadership \nThe event brings together retail\, brand\, and commerce leaders to tackle pressing challenges in supply chain\, logistics\, sustainability\, and technology innovation.
URL:https://supplychaney.com/event/deliver-europe-2026/
LOCATION:Taets Event Park\, Amsterdam\, Netherlands
CATEGORIES:industry-conference
ATTACH;FMTTYPE=image/png:https://supplychaney.com/wp-content/uploads/2025/12/deliver-europe-2026-fd5bb9b7663cbbe85d35d2b2d13f46e1.png
END:VEVENT
END:VCALENDAR