BEGIN:VCALENDAR
VERSION:2.0
PRODID:-//Supply Chaney - ECPv6.15.17.1//NONSGML v1.0//EN
CALSCALE:GREGORIAN
METHOD:PUBLISH
X-ORIGINAL-URL:https://supplychaney.com
X-WR-CALDESC:Events for Supply Chaney
REFRESH-INTERVAL;VALUE=DURATION:PT1H
X-Robots-Tag:noindex
X-PUBLISHED-TTL:PT1H
BEGIN:VTIMEZONE
TZID:America/Chicago
BEGIN:DAYLIGHT
TZOFFSETFROM:-0600
TZOFFSETTO:-0500
TZNAME:CDT
DTSTART:20250309T080000
END:DAYLIGHT
BEGIN:STANDARD
TZOFFSETFROM:-0500
TZOFFSETTO:-0600
TZNAME:CST
DTSTART:20251102T070000
END:STANDARD
BEGIN:DAYLIGHT
TZOFFSETFROM:-0600
TZOFFSETTO:-0500
TZNAME:CDT
DTSTART:20260308T080000
END:DAYLIGHT
BEGIN:STANDARD
TZOFFSETFROM:-0500
TZOFFSETTO:-0600
TZNAME:CST
DTSTART:20261101T070000
END:STANDARD
BEGIN:DAYLIGHT
TZOFFSETFROM:-0600
TZOFFSETTO:-0500
TZNAME:CDT
DTSTART:20270314T080000
END:DAYLIGHT
BEGIN:STANDARD
TZOFFSETFROM:-0500
TZOFFSETTO:-0600
TZNAME:CST
DTSTART:20271107T070000
END:STANDARD
BEGIN:DAYLIGHT
TZOFFSETFROM:-0600
TZOFFSETTO:-0500
TZNAME:CDT
DTSTART:20280312T080000
END:DAYLIGHT
BEGIN:STANDARD
TZOFFSETFROM:-0500
TZOFFSETTO:-0600
TZNAME:CST
DTSTART:20281105T070000
END:STANDARD
END:VTIMEZONE
BEGIN:VEVENT
DTSTART;TZID=America/Chicago:20261101T170000
DTEND;TZID=America/Chicago:20261104T170000
DTSTAMP:20260420T055955
CREATED:20260202T150627Z
LAST-MODIFIED:20260202T150627Z
UID:15868-1793552400-1793811600@supplychaney.com
SUMMARY:2026 INFORMS Annual Meeting
DESCRIPTION:Join us at the Moscone Center & Marriott Marquis San Francisco\, where more than 6\,000 INFORMS members\, students\, prospective employers and employees\, and academic and industry experts will share the ways O.R. and analytics are fueling Smarter Decisions for a Better World. \nRequest a Letter of Invitation: Click below to request a letter of invitation to the 2026 INFORMS Annual Meeting. \nSign up to receive email updates when new information becomes available.
URL:https://supplychaney.com/event/2026-informs-annual-meeting/
LOCATION:Moscone Center & Marriott Marquis San Francisco\, San Francisco\, USA
CATEGORIES:Conference
ATTACH;FMTTYPE=image/png:https://supplychaney.com/wp-content/uploads/2026/02/2026-informs-annual-meeting-d8cded49ea2ce37e4af64154de2f6af2.png
END:VEVENT
BEGIN:VEVENT
DTSTART;TZID=America/Chicago:20270210T170000
DTEND;TZID=America/Chicago:20270212T225900
DTSTAMP:20260420T055955
CREATED:20260124T021016Z
LAST-MODIFIED:20260124T021016Z
UID:15598-1802278800-1802473140@supplychaney.com
SUMMARY:Bulk Freight Conference 2027
DESCRIPTION:FEBRUARY 10 – 12\, 2027\n\n\n\nTHE GOLDEN AGE FOR BULK TRUCKING STARTS NOW\n\n\nThis conference is designed for bulk freight carriers\, shippers\, and brokers who want to win more business\, sharpen operations\, cut costs\, and prepare for the rebound in freight. But this isn’t your typical conference. It’s where real relationships are formed\, deals are made\, and the future of bulk freight trucking takes shape.
URL:https://supplychaney.com/event/bulk-freight-conference-2027/
LOCATION:The Branson Convention Center & Hotel\, Branson\, USA
CATEGORIES:Conference
ATTACH;FMTTYPE=image/png:https://supplychaney.com/wp-content/uploads/2026/01/bulk-freight-conference-6fea866531f11c68c16d296bec82d9a7.png
END:VEVENT
END:VCALENDAR