BEGIN:VCALENDAR
VERSION:2.0
PRODID:-//Supply Chaney - ECPv6.15.17.1//NONSGML v1.0//EN
CALSCALE:GREGORIAN
METHOD:PUBLISH
X-ORIGINAL-URL:https://supplychaney.com
X-WR-CALDESC:Events for Supply Chaney
REFRESH-INTERVAL;VALUE=DURATION:PT1H
X-Robots-Tag:noindex
X-PUBLISHED-TTL:PT1H
BEGIN:VTIMEZONE
TZID:America/Chicago
BEGIN:DAYLIGHT
TZOFFSETFROM:-0600
TZOFFSETTO:-0500
TZNAME:CDT
DTSTART:20250309T080000
END:DAYLIGHT
BEGIN:STANDARD
TZOFFSETFROM:-0500
TZOFFSETTO:-0600
TZNAME:CST
DTSTART:20251102T070000
END:STANDARD
BEGIN:DAYLIGHT
TZOFFSETFROM:-0600
TZOFFSETTO:-0500
TZNAME:CDT
DTSTART:20260308T080000
END:DAYLIGHT
BEGIN:STANDARD
TZOFFSETFROM:-0500
TZOFFSETTO:-0600
TZNAME:CST
DTSTART:20261101T070000
END:STANDARD
BEGIN:DAYLIGHT
TZOFFSETFROM:-0600
TZOFFSETTO:-0500
TZNAME:CDT
DTSTART:20270314T080000
END:DAYLIGHT
BEGIN:STANDARD
TZOFFSETFROM:-0500
TZOFFSETTO:-0600
TZNAME:CST
DTSTART:20271107T070000
END:STANDARD
BEGIN:DAYLIGHT
TZOFFSETFROM:-0600
TZOFFSETTO:-0500
TZNAME:CDT
DTSTART:20280312T080000
END:DAYLIGHT
BEGIN:STANDARD
TZOFFSETFROM:-0500
TZOFFSETTO:-0600
TZNAME:CST
DTSTART:20281105T070000
END:STANDARD
END:VTIMEZONE
BEGIN:VEVENT
DTSTART;TZID=America/Chicago:20261025T170000
DTEND;TZID=America/Chicago:20261028T170000
DTSTAMP:20260420T085018
CREATED:20260209T021215Z
LAST-MODIFIED:20260209T021215Z
UID:16034-1792947600-1793206800@supplychaney.com
SUMMARY:Oracle AI World 2026
DESCRIPTION:Oracle AI World is where those involved in AI implementation across data\, applications\, and cloud infrastructure meet to explore what’s next. \nHear announcements around Oracle AI innovations and strategies that tackle your business challenges. \nThe sessions and hands-on activities will keep you at the leading edge of AI. \nSign up for updates to receive a $100 code toward early individual registration.
URL:https://supplychaney.com/event/oracle-ai-world-2026/
LOCATION:Las Vegas\, Las Vegas\, USA
CATEGORIES:Conference
ATTACH;FMTTYPE=image/png:https://supplychaney.com/wp-content/uploads/2026/02/oracle-ai-world-2026-9247e8d341a0a005f06a7fc878c8f955.png
END:VEVENT
BEGIN:VEVENT
DTSTART;TZID=America/Chicago:20261026T170000
DTEND;TZID=America/Chicago:20261028T170000
DTSTAMP:20260420T085018
CREATED:20260106T203131Z
LAST-MODIFIED:20260106T203131Z
UID:15273-1793034000-1793206800@supplychaney.com
SUMMARY:Mobilize 2026
DESCRIPTION:Mobilize 2026 is a major transportation industry event. \nEvent dates: October 26-28\, 2026\nLocation: Anaheim\, California \nFor questions or concerns\, contact The Transportation Alliance at (301) 984-5700.
URL:https://supplychaney.com/event/mobilize-2026/
LOCATION:Anaheim\, Anaheim\, USA
CATEGORIES:Conference
ATTACH;FMTTYPE=image/png:https://supplychaney.com/wp-content/uploads/2026/01/mobilize-2026-161af01200bf009bbf63bd129415ab2d.png
END:VEVENT
BEGIN:VEVENT
DTSTART;TZID=America/Chicago:20261027T170000
DTEND;TZID=America/Chicago:20261029T170000
DTSTAMP:20260420T085018
CREATED:20260107T022830Z
LAST-MODIFIED:20260107T022830Z
UID:15310-1793120400-1793293200@supplychaney.com
SUMMARY:2026 Utah Transportation Conference
DESCRIPTION:Next year’s conference will be held at the Mountain Expo Center on October 27 – 29\, 2026. \nInterested in becoming a Sponsor next year? Check back soon for more details on how to secure your spot! \nSecure your spot early by clicking below. \nBecome a Sponsor in 2026. \nJoin industry leaders in shaping the future of transportation by becoming a valued sponsor. With high-visibility opportunities your company will gain unmatched exposure to hundreds of professionals and decision-makers. \nSecure your sponsorship early and be the first to showcase your brand at Utah’s premier transportation event in 2026! \nStay Informed. \nJoin our email distribution list to keep updated on upcoming events\, opportunities and information from our team.
URL:https://supplychaney.com/event/2026-utah-transportation-conference/
LOCATION:Mountain Expo Center\, USA
CATEGORIES:Conference
ATTACH;FMTTYPE=image/png:https://supplychaney.com/wp-content/uploads/2026/01/2026-utah-transportation-conference-fc4f10590c3fef17bf9f8ac58aa3df5a.png
END:VEVENT
BEGIN:VEVENT
DTSTART;TZID=America/Chicago:20261027T170000
DTEND;TZID=America/Chicago:20261030T170000
DTSTAMP:20260420T085018
CREATED:20260307T023641Z
LAST-MODIFIED:20260307T023641Z
UID:16380-1793120400-1793379600@supplychaney.com
SUMMARY:2026 THE 10th EGLN Annual Conference 2026
DESCRIPTION:THE 10th EGLN Annual Conference 2026 \nDates: Tuesday\, October 27 – Friday\, October 30\, 2026 \nVenue: Bangkok\, Thailand \nExpected Attendance: 220 participants \nThis is the 10th annual conference of the Elite Global Logistics Network\, bringing together logistics professionals from around the world for networking\, knowledge sharing\, and business development opportunities.
URL:https://supplychaney.com/event/2026-the-10th-egln-annual-conference-2026/
LOCATION:Bangkok\, Bangkok\, Thailand
CATEGORIES:Conference
ATTACH;FMTTYPE=image/png:https://supplychaney.com/wp-content/uploads/2026/03/2026-the-10th-egln-annual-conference-2026-131067421a46790cdee320d7e1bdd435.png
END:VEVENT
BEGIN:VEVENT
DTSTART;TZID=America/Chicago:20261101T170000
DTEND;TZID=America/Chicago:20261104T170000
DTSTAMP:20260420T085018
CREATED:20260107T023708Z
LAST-MODIFIED:20260107T023708Z
UID:15317-1793552400-1793811600@supplychaney.com
SUMMARY:2026 RVCF Annual Fall Conference
DESCRIPTION:SAVE THE DATE: November 1st – 4th\, 2026 \nOur Agenda is already in progress and will feature: Retailer Breakouts\, Trading Partner 1:1 Meetings\, Presentations from Industry Experts\, & Networking Events \nRATES:\nRegister by 6/1 and Save $200 with Early Bird Pricing!\nMembers: $2\,199 | Non-Members: $2\,749 \nHOTEL & TRAVEL:\nHOTEL & EVENT VENUE: Westin Kierland Resort and Spa (A Marriott Property)\n6902 East Greenway Parkway\, Scottsdale\, Arizona\, USA\, 85254\nReserve using this link: https://book.passkey.com/go/2026RVCFTradingPartners\nRoom Rates: $364.00 + $10 resort fee* available through Thursday\, 10/1\nYour stay includes*: Daily in-room wireless internet\, Unlimited Local and Domestic Calls\, Daily 1 Hour Fitness Class\, Daily Shuttle to neighboring Kierland Commons and Scottsdale Quarter Shopping Districts\, Daily Pickleball Court use for up to two (2) guests\, Wellness Ritual Experience in Agave\, The Arizona Spa\, Bonvoy Elite Amenity: Daily Agave Spa Pass (Gold members and above)\n*Components are subject to change \nAIRPORT:\nPhoenix Sky Harbor International Airport – PHX\nHotel is 19 miles from PHX\nValet & On Site Parking Available for a fee \nSPONSOR & EXHIBIT OPPORTUNITIES:\nRVCF offers service providers a variety of opportunities to position your company to our membership and event attendees. If you are interested in pricing\, please contact Kim Zablocky at (646) 442-3473 or kzablocky@rvcf.com. \nEVENT DISCLAIMERS:\nPayment must be received prior to event taking place or registrant forfeits right to participate.\nRegistration Cancellations: In the event of registration cancellation\, a credit will be applied towards a future RVCF event\, less a 25% administrative fee.\nActs of God\, Fires\, Strikes\, or Cancellation of Event: In case this event is interrupted\, postponed or discontinued due to various reasons\, the attendee/registrant waives any and all damages and claims for damages.\nMailing List Consent: By registering for this event\, you will receive e-mail notifications from RVCF and our Event Sponsors.\nMedia Consent: The registrants give permission to RVCF to use photographs\, video or audio taken of them at the event in all forms of media.
URL:https://supplychaney.com/event/2026-rvcf-annual-fall-conference-2/
LOCATION:Westin Kierland Resort and Spa\, 6902 East Greenway Parkway\, Scottsdale\, United States
CATEGORIES:Conference
ATTACH;FMTTYPE=image/png:https://supplychaney.com/wp-content/uploads/2026/01/2026-rvcf-annual-fall-conference-54eeb441704bd862688638a84580d2f8.png
END:VEVENT
BEGIN:VEVENT
DTSTART;TZID=America/Chicago:20261101T170000
DTEND;TZID=America/Chicago:20261104T170000
DTSTAMP:20260420T085018
CREATED:20260202T150627Z
LAST-MODIFIED:20260202T150627Z
UID:15868-1793552400-1793811600@supplychaney.com
SUMMARY:2026 INFORMS Annual Meeting
DESCRIPTION:Join us at the Moscone Center & Marriott Marquis San Francisco\, where more than 6\,000 INFORMS members\, students\, prospective employers and employees\, and academic and industry experts will share the ways O.R. and analytics are fueling Smarter Decisions for a Better World. \nRequest a Letter of Invitation: Click below to request a letter of invitation to the 2026 INFORMS Annual Meeting. \nSign up to receive email updates when new information becomes available.
URL:https://supplychaney.com/event/2026-informs-annual-meeting/
LOCATION:Moscone Center & Marriott Marquis San Francisco\, San Francisco\, USA
CATEGORIES:Conference
ATTACH;FMTTYPE=image/png:https://supplychaney.com/wp-content/uploads/2026/02/2026-informs-annual-meeting-d8cded49ea2ce37e4af64154de2f6af2.png
END:VEVENT
BEGIN:VEVENT
DTSTART;TZID=America/Chicago:20270210T170000
DTEND;TZID=America/Chicago:20270212T225900
DTSTAMP:20260420T085018
CREATED:20260124T021016Z
LAST-MODIFIED:20260124T021016Z
UID:15598-1802278800-1802473140@supplychaney.com
SUMMARY:Bulk Freight Conference 2027
DESCRIPTION:FEBRUARY 10 – 12\, 2027\n\n\n\nTHE GOLDEN AGE FOR BULK TRUCKING STARTS NOW\n\n\nThis conference is designed for bulk freight carriers\, shippers\, and brokers who want to win more business\, sharpen operations\, cut costs\, and prepare for the rebound in freight. But this isn’t your typical conference. It’s where real relationships are formed\, deals are made\, and the future of bulk freight trucking takes shape.
URL:https://supplychaney.com/event/bulk-freight-conference-2027/
LOCATION:The Branson Convention Center & Hotel\, Branson\, USA
CATEGORIES:Conference
ATTACH;FMTTYPE=image/png:https://supplychaney.com/wp-content/uploads/2026/01/bulk-freight-conference-6fea866531f11c68c16d296bec82d9a7.png
END:VEVENT
END:VCALENDAR