BEGIN:VCALENDAR
VERSION:2.0
PRODID:-//Supply Chaney - ECPv6.15.17.1//NONSGML v1.0//EN
CALSCALE:GREGORIAN
METHOD:PUBLISH
X-ORIGINAL-URL:https://supplychaney.com
X-WR-CALDESC:Events for Supply Chaney
REFRESH-INTERVAL;VALUE=DURATION:PT1H
X-Robots-Tag:noindex
X-PUBLISHED-TTL:PT1H
BEGIN:VTIMEZONE
TZID:America/Chicago
BEGIN:DAYLIGHT
TZOFFSETFROM:-0600
TZOFFSETTO:-0500
TZNAME:CDT
DTSTART:20250309T080000
END:DAYLIGHT
BEGIN:STANDARD
TZOFFSETFROM:-0500
TZOFFSETTO:-0600
TZNAME:CST
DTSTART:20251102T070000
END:STANDARD
BEGIN:DAYLIGHT
TZOFFSETFROM:-0600
TZOFFSETTO:-0500
TZNAME:CDT
DTSTART:20260308T080000
END:DAYLIGHT
BEGIN:STANDARD
TZOFFSETFROM:-0500
TZOFFSETTO:-0600
TZNAME:CST
DTSTART:20261101T070000
END:STANDARD
BEGIN:DAYLIGHT
TZOFFSETFROM:-0600
TZOFFSETTO:-0500
TZNAME:CDT
DTSTART:20270314T080000
END:DAYLIGHT
BEGIN:STANDARD
TZOFFSETFROM:-0500
TZOFFSETTO:-0600
TZNAME:CST
DTSTART:20271107T070000
END:STANDARD
END:VTIMEZONE
BEGIN:VEVENT
DTSTART;TZID=America/Chicago:20260413T170000
DTEND;TZID=America/Chicago:20260415T170000
DTSTAMP:20260421T032904
CREATED:20251211T200400Z
LAST-MODIFIED:20251211T200400Z
UID:14632-1776099600-1776272400@supplychaney.com
SUMMARY:Ontario Transportation Expo (OTE)
DESCRIPTION:The Ontario Transportation Expo (OTE) is the largest bus show in Canada. \nConference: April 13 – April 15\, 2026\nTrade Show: April 14\, 2026 \nWhy you should attend OTE:\nConnect with Industry Colleagues – OTE is the biggest bus show in Canada. Don’t miss this chance to make valuable connections to grow your business. \nSee the Latest in Industry Technology – The OTE tradeshow features a wide array of exhibitors eager to show off their latest advances in electrification\, manufacturing\, supplies\, products\, and services. \nKeep In the Know – Stay in the know at the OTE conference business sessions\, touching on the most relevant and pressing topics that face the busing industry. \nPresented by: Ontario Motor Coach Association (OMCA)\, Ontario Public Transit Association (OPTA)\, and School Bus Ontario (SBO).
URL:https://supplychaney.com/event/ontario-transportation-expo-ote/
LOCATION:Delta Marriott Toronto Airport / Toronto Congress Centre\, 655 Dixon Road / 650 Dixon Rd\, Toronto\, Canada
CATEGORIES:Expo
ATTACH;FMTTYPE=image/png:https://supplychaney.com/wp-content/uploads/2025/12/ontario-transportation-expo-ote-dbf620ae853f6738ba86431038c4df17.png
END:VEVENT
BEGIN:VEVENT
DTSTART;TZID=America/Chicago:20260413T170000
DTEND;TZID=America/Chicago:20260415T170000
DTSTAMP:20260421T032904
CREATED:20260205T000158Z
LAST-MODIFIED:20260205T000158Z
UID:15942-1776099600-1776272400@supplychaney.com
SUMMARY:NAFA Institute & Expo (I&E)
DESCRIPTION:Where Fleet Comes Together. Education\, networking\, and solutions—all in one place. The Fleet Event of the Year. \nJoin thousands of fleet professionals from corporate\, government\, public safety\, utility\, education\, and more at the premier fleet event. \nAmplify Your Drive. More than 2\,100 fleet professionals from across the industry rely on NAFA’s Institute & Expo (I&E) for networking\, learning and exploring the latest products and services. I&E offers three days of unparalleled education\, impactful conversations\, and dynamic products and services from 230+ industry’s leading suppliers. \nI&E is the industry’s largest gathering of fleet professionals\, providing the opportunity to share insights and perspectives on the many facets of the fleet professional’s day-to-day responsibilities and strategic leadership roles. I&E provides the opportunity for fleet professionals to gain tools\, resources\, and knowledge needed to maximize their fleet operations. \nI&E Features:\nEducation: Immersive educational offerings will prepare you to return to your place of work armed with solutions to your daily challenges and strategies for future fleet operations.\nNetworking: Make new connections and strengthen existing ones while exploring innovative ways to elevate your fleets operations.\nExpo Hall: Discover the latest in fleet products and solutions from the industry’s leading suppliers.\nExtended Learning: Jump start your education through pre-conference events\, offering a deeper dive into fleet’s hot-topics.\nIndustry-Leading Keynotes: Connect directly with the experts that will amplify your fleet and mindset toward success.\nRide & Drive: Test drive the vehicles of today and experience the EVs of tomorrow at the Ride & Drive.\nCelebrate Excellence: See the crowning of the 100 Best Fleets and celebrate the new CAFMs.\nAnd More: Discover innovative products and solutions\, unparalleled relationship building\, the ever popular OEM Panel Discussion\, the Innovations Showcase\, and more! \nKeynote Speakers:\nDuncan Stevens: Wednesday Keynote: Leading Teams Through Change To See New Perspectives and New Possibilities\nOEM Panel Discussion: General Session\, Tuesday\, April 14\nStephen Drum: Monday Keynote: Life on the X – Learn How to Meet Any Challenge with Courage\, Confidence\, and Readiness!
URL:https://supplychaney.com/event/nafa-institute-expo-ie/
LOCATION:Huntington Convention Center of Cleveland\, Cleveland\, USA
CATEGORIES:Expo
ATTACH;FMTTYPE=image/png:https://supplychaney.com/wp-content/uploads/2026/02/nafa-institute-expo-ie-0a8e0b4f6109528411d005d35b23799b.png
END:VEVENT
END:VCALENDAR