BEGIN:VCALENDAR
VERSION:2.0
PRODID:-//Supply Chaney - ECPv6.15.17.1//NONSGML v1.0//EN
CALSCALE:GREGORIAN
METHOD:PUBLISH
X-ORIGINAL-URL:https://supplychaney.com
X-WR-CALDESC:Events for Supply Chaney
REFRESH-INTERVAL;VALUE=DURATION:PT1H
X-Robots-Tag:noindex
X-PUBLISHED-TTL:PT1H
BEGIN:VTIMEZONE
TZID:America/Chicago
BEGIN:DAYLIGHT
TZOFFSETFROM:-0600
TZOFFSETTO:-0500
TZNAME:CDT
DTSTART:20240310T080000
END:DAYLIGHT
BEGIN:STANDARD
TZOFFSETFROM:-0500
TZOFFSETTO:-0600
TZNAME:CST
DTSTART:20241103T070000
END:STANDARD
BEGIN:DAYLIGHT
TZOFFSETFROM:-0600
TZOFFSETTO:-0500
TZNAME:CDT
DTSTART:20250309T080000
END:DAYLIGHT
BEGIN:STANDARD
TZOFFSETFROM:-0500
TZOFFSETTO:-0600
TZNAME:CST
DTSTART:20251102T070000
END:STANDARD
BEGIN:DAYLIGHT
TZOFFSETFROM:-0600
TZOFFSETTO:-0500
TZNAME:CDT
DTSTART:20260308T080000
END:DAYLIGHT
BEGIN:STANDARD
TZOFFSETFROM:-0500
TZOFFSETTO:-0600
TZNAME:CST
DTSTART:20261101T070000
END:STANDARD
END:VTIMEZONE
BEGIN:VEVENT
DTSTART;TZID=America/Chicago:20251106T163000
DTEND;TZID=America/Chicago:20251106T193000
DTSTAMP:20260419T190100
CREATED:20251004T124944Z
LAST-MODIFIED:20251103T163246Z
UID:12904-1762446600-1762457400@supplychaney.com
SUMMARY:From Signal to Shelf: Fireside Chat & Happy Hour
DESCRIPTION:Join CSCMP Chicago on Thursday\, November 6 for an exclusive after-work forum downtown on Wacker Dr. We’ll kick off with a fireside chat featuring an industry executive’s POV on what they’re focused on for the year ahead. Spinnaker SCA will follow with an expert-led session on the supply chain trends they’re watching for 2026. Then\, we’ll cap off the evening enjoying light snacks and adult beverages while network-building with peers and partners overlooking the great Chicago River. Beer & Wine included for those 21+.
URL:https://supplychaney.com/event/from-signal-to-shelf-a-fireside-chat-happy-hour/
LOCATION:Chicago\, Wacker Dr.\, Chicago\, USA
CATEGORIES:panelnetworking
ATTACH;FMTTYPE=image/png:https://supplychaney.com/wp-content/uploads/2025/10/Screenshot-2025-11-03-at-10.29.53-AM.png
END:VEVENT
END:VCALENDAR