BEGIN:VCALENDAR
VERSION:2.0
PRODID:-//Supply Chaney - ECPv6.15.17.1//NONSGML v1.0//EN
CALSCALE:GREGORIAN
METHOD:PUBLISH
X-ORIGINAL-URL:https://supplychaney.com
X-WR-CALDESC:Events for Supply Chaney
REFRESH-INTERVAL;VALUE=DURATION:PT1H
X-Robots-Tag:noindex
X-PUBLISHED-TTL:PT1H
BEGIN:VTIMEZONE
TZID:America/Chicago
BEGIN:DAYLIGHT
TZOFFSETFROM:-0600
TZOFFSETTO:-0500
TZNAME:CDT
DTSTART:20240310T080000
END:DAYLIGHT
BEGIN:STANDARD
TZOFFSETFROM:-0500
TZOFFSETTO:-0600
TZNAME:CST
DTSTART:20241103T070000
END:STANDARD
BEGIN:DAYLIGHT
TZOFFSETFROM:-0600
TZOFFSETTO:-0500
TZNAME:CDT
DTSTART:20250309T080000
END:DAYLIGHT
BEGIN:STANDARD
TZOFFSETFROM:-0500
TZOFFSETTO:-0600
TZNAME:CST
DTSTART:20251102T070000
END:STANDARD
BEGIN:DAYLIGHT
TZOFFSETFROM:-0600
TZOFFSETTO:-0500
TZNAME:CDT
DTSTART:20260308T080000
END:DAYLIGHT
BEGIN:STANDARD
TZOFFSETFROM:-0500
TZOFFSETTO:-0600
TZNAME:CST
DTSTART:20261101T070000
END:STANDARD
END:VTIMEZONE
BEGIN:VEVENT
DTSTART;TZID=America/Chicago:20250404T110000
DTEND;TZID=America/Chicago:20250404T120000
DTSTAMP:20260421T112718
CREATED:20250331T004510Z
LAST-MODIFIED:20250331T004510Z
UID:10481-1743764400-1743768000@supplychaney.com
SUMMARY:WERC - First Friday | Transforming Warehouse Efficiency: The Power of Artificial Intelligence & Simulation
DESCRIPTION:Explore the impact of artificial intelligence and simulation on warehouse operations in our 30-minute Zoom session. We’ll start with a 10-minute overview covering how AI-driven automation\, predictive analytics\, and digital twins are transforming efficiency and decision-making. Then\, join a dynamic 20-minute discussion with your peers to exchange ideas and insights on leveraging these technologies for smarter\, more resilient supply chains. \n  \nWhen: Friday\, April 4\, 2025\, 11:00 – 11:30 AM Central\nWhere: Via Zoom Meeting
URL:https://supplychaney.com/event/werc-first-friday-transforming-warehouse-efficiency-the-power-of-artificial-intelligence-simulation/
CATEGORIES:Webinar
ATTACH;FMTTYPE=image/png:https://supplychaney.com/wp-content/uploads/2025/03/download-2.png
ORGANIZER;CN="Warehousing Education and Research Council (WERC)":MAILTO:info@werc.org
END:VEVENT
END:VCALENDAR