BEGIN:VCALENDAR
VERSION:2.0
PRODID:-//Supply Chaney - ECPv6.15.17.1//NONSGML v1.0//EN
CALSCALE:GREGORIAN
METHOD:PUBLISH
X-ORIGINAL-URL:https://supplychaney.com
X-WR-CALDESC:Events for Supply Chaney
REFRESH-INTERVAL;VALUE=DURATION:PT1H
X-Robots-Tag:noindex
X-PUBLISHED-TTL:PT1H
BEGIN:VTIMEZONE
TZID:America/Chicago
BEGIN:DAYLIGHT
TZOFFSETFROM:-0600
TZOFFSETTO:-0500
TZNAME:CDT
DTSTART:20240310T080000
END:DAYLIGHT
BEGIN:STANDARD
TZOFFSETFROM:-0500
TZOFFSETTO:-0600
TZNAME:CST
DTSTART:20241103T070000
END:STANDARD
BEGIN:DAYLIGHT
TZOFFSETFROM:-0600
TZOFFSETTO:-0500
TZNAME:CDT
DTSTART:20250309T080000
END:DAYLIGHT
BEGIN:STANDARD
TZOFFSETFROM:-0500
TZOFFSETTO:-0600
TZNAME:CST
DTSTART:20251102T070000
END:STANDARD
BEGIN:DAYLIGHT
TZOFFSETFROM:-0600
TZOFFSETTO:-0500
TZNAME:CDT
DTSTART:20260308T080000
END:DAYLIGHT
BEGIN:STANDARD
TZOFFSETFROM:-0500
TZOFFSETTO:-0600
TZNAME:CST
DTSTART:20261101T070000
END:STANDARD
END:VTIMEZONE
BEGIN:VEVENT
DTSTART;TZID=America/Chicago:20251014T120000
DTEND;TZID=America/Chicago:20251014T130000
DTSTAMP:20260421T074157
CREATED:20250919T035650Z
LAST-MODIFIED:20250919T035829Z
UID:11601-1760443200-1760446800@supplychaney.com
SUMMARY:Enterprise Yard Operations As A Strategy Executive Webinar
DESCRIPTION:Register today for the exclusive webinar: Enterprise Yard Operations As A Strategy: Manufacturing Perspective \nPanelists will discuss how outdated outsourcing models and yard management technologies have created inefficiencies\, excessive costs\, risks\, and missed opportunities across manufacturing distribution networks\, and how yard operating systems are emerging as a successful alternative. \nHosted by former VP of Research at Gartner and industry analyst\, Bart A. De Muynck\, the panel will include: \n• Rick McDonald\, fmr CSCO at The Clorox Company\n• Scott DeGroot\, fmr VP of Global Planning and Logistics at Kimberly-Clark\, \n• Matt Yearling\, CEO at YMX Logistics \nRegister now: https://hubs.la/Q03J6Nsn0 \nKey discussion topics include:\n• Why should supply chain executives prioritize yard operations across their distribution networks.\n• Why legacy approaches and standalone yard technologies are no longer sufficient to manage yard and network operations effectively.\n• What alternatives are available today\, and why are they more effective than the status quo and legacy models. \nThis event marks the second discussion in YMX’s Executive Webinar Series. The inaugural session featured Chris Sultemeier\, former EVP of Logistics at Walmart\, and set the stage for a broader industry dialogue on how enterprises can leverage yard operations as a strategic advantage. You can watch the event on demand at https://hubs.la/Q03J6Q7N0 \n#powermoves
URL:https://supplychaney.com/event/enterprise-yard-operations-as-a-strategy-webinar/
LOCATION:Virtual
CATEGORIES:Webinar
ATTACH;FMTTYPE=image/png:https://supplychaney.com/wp-content/uploads/2025/09/Screenshot-2025-09-18-at-10.51.35-PM-e1758254070329.png
END:VEVENT
BEGIN:VEVENT
DTSTART;TZID=America/Chicago:20251021T160000
DTEND;TZID=America/Chicago:20251021T170000
DTSTAMP:20260421T074157
CREATED:20251018T221655Z
LAST-MODIFIED:20251018T221655Z
UID:13462-1761062400-1761066000@supplychaney.com
SUMMARY:From Dimensions to Decisions: Smarter Cartonization for Modern Fulfillment
DESCRIPTION:Join Tomas David Ye\, Founder & CEO of Perseuss\, in conversation with Tytus Wilson\, CTO/COO of IQpack\, to explore how cartonization and box simulations are reshaping modern fulfillment. \nTogether\, they’ll unpack how mechanized data\, integrated dimensioners\, and smarter workflows can cut waste\, reduce shipping costs\, and unlock efficiency at scale. \nIf packaging and fulfillment are part of your world\, this session will show you how turning dimensions into decisions creates a real competitive advantage.
URL:https://supplychaney.com/event/from-dimensions-to-decisions-smarter-cartonization-for-modern-fulfillment/
CATEGORIES:Webinar
ATTACH;FMTTYPE=image/png:https://supplychaney.com/wp-content/uploads/2025/10/from-dimensions-to-decisions-smarter-cartonization-for-modern-fulfillment-9af44629a51169fd2a5dc12fa5420437.png
END:VEVENT
END:VCALENDAR