BEGIN:VCALENDAR
VERSION:2.0
PRODID:-//Supply Chaney - ECPv6.15.17.1//NONSGML v1.0//EN
CALSCALE:GREGORIAN
METHOD:PUBLISH
X-ORIGINAL-URL:https://supplychaney.com
X-WR-CALDESC:Events for Supply Chaney
REFRESH-INTERVAL;VALUE=DURATION:PT1H
X-Robots-Tag:noindex
X-PUBLISHED-TTL:PT1H
BEGIN:VTIMEZONE
TZID:America/Chicago
BEGIN:DAYLIGHT
TZOFFSETFROM:-0600
TZOFFSETTO:-0500
TZNAME:CDT
DTSTART:20240310T080000
END:DAYLIGHT
BEGIN:STANDARD
TZOFFSETFROM:-0500
TZOFFSETTO:-0600
TZNAME:CST
DTSTART:20241103T070000
END:STANDARD
BEGIN:DAYLIGHT
TZOFFSETFROM:-0600
TZOFFSETTO:-0500
TZNAME:CDT
DTSTART:20250309T080000
END:DAYLIGHT
BEGIN:STANDARD
TZOFFSETFROM:-0500
TZOFFSETTO:-0600
TZNAME:CST
DTSTART:20251102T070000
END:STANDARD
BEGIN:DAYLIGHT
TZOFFSETFROM:-0600
TZOFFSETTO:-0500
TZNAME:CDT
DTSTART:20260308T080000
END:DAYLIGHT
BEGIN:STANDARD
TZOFFSETFROM:-0500
TZOFFSETTO:-0600
TZNAME:CST
DTSTART:20261101T070000
END:STANDARD
END:VTIMEZONE
BEGIN:VEVENT
DTSTART;TZID=America/Chicago:20250618T100000
DTEND;TZID=America/Chicago:20250618T110000
DTSTAMP:20260421T095459
CREATED:20250608T132058Z
LAST-MODIFIED:20250608T132058Z
UID:10755-1750240800-1750244400@supplychaney.com
SUMMARY:The Gartner Supply Chain Top 25 for 2025
DESCRIPTION:Discover the benchmarks that define excellence in global supply chains. This complimentary Gartner webinar reveals the 2025 Supply Chain Top 25 honorees and explores the key traits\, innovative strategies\, and best practices that set them apart. By attending\, you’ll gain actionable insights and recommendations to level up your own supply chain operations. \n 
URL:https://supplychaney.com/event/the-gartner-supply-chain-top-25-for-2025/
LOCATION:Virtual
CATEGORIES:Virtual Event,Webinar
ATTACH;FMTTYPE=image/png:https://supplychaney.com/wp-content/uploads/2025/06/ChatGPT-Image-Jun-8-2025-08_19_16-AM-e1749388842865.png
END:VEVENT
END:VCALENDAR