BEGIN:VCALENDAR
VERSION:2.0
PRODID:-//Supply Chaney - ECPv6.15.17.1//NONSGML v1.0//EN
CALSCALE:GREGORIAN
METHOD:PUBLISH
X-ORIGINAL-URL:https://supplychaney.com
X-WR-CALDESC:Events for Supply Chaney
REFRESH-INTERVAL;VALUE=DURATION:PT1H
X-Robots-Tag:noindex
X-PUBLISHED-TTL:PT1H
BEGIN:VTIMEZONE
TZID:America/Chicago
BEGIN:DAYLIGHT
TZOFFSETFROM:-0600
TZOFFSETTO:-0500
TZNAME:CDT
DTSTART:20260308T080000
END:DAYLIGHT
BEGIN:STANDARD
TZOFFSETFROM:-0500
TZOFFSETTO:-0600
TZNAME:CST
DTSTART:20261101T070000
END:STANDARD
BEGIN:DAYLIGHT
TZOFFSETFROM:-0600
TZOFFSETTO:-0500
TZNAME:CDT
DTSTART:20270314T080000
END:DAYLIGHT
BEGIN:STANDARD
TZOFFSETFROM:-0500
TZOFFSETTO:-0600
TZNAME:CST
DTSTART:20271107T070000
END:STANDARD
BEGIN:DAYLIGHT
TZOFFSETFROM:-0600
TZOFFSETTO:-0500
TZNAME:CDT
DTSTART:20280312T080000
END:DAYLIGHT
BEGIN:STANDARD
TZOFFSETFROM:-0500
TZOFFSETTO:-0600
TZNAME:CST
DTSTART:20281105T070000
END:STANDARD
END:VTIMEZONE
BEGIN:VEVENT
DTSTART;TZID=America/Chicago:20270426T170000
DTEND;TZID=America/Chicago:20270429T170000
DTSTAMP:20260420T055822
CREATED:20260205T000648Z
LAST-MODIFIED:20260205T000648Z
UID:15956-1808758800-1809018000@supplychaney.com
SUMMARY:transport logistic
DESCRIPTION:International leading trade fair for logistics\, mobility\, IT\, and supply chain management. \nWelcome to transport logistic: As the international trade fair for logistics\, mobility\, IT\, and supply chain management\, transport logistic in Munich brings together the entire industry. \nSuccess figures for transport logistic 2025: 2\,719 exhibitors from 73 countries and regions\, over 77\,000 visitors from more than 130 countries and regions\, approximately 150\,000 square meters of exhibition space in 12 halls plus outdoor area\, and 274 experts in the conference program. \nair cargo Europe at transport logistic: The world’s largest event for the air freight industry\, taking place as part of transport logistic. Key players from around the world will be presenting themselves on approximately 15\,000 square meters of exhibition space. \nExhibition areas include logistics\, mobility\, IT\, and supply chain management with exhibitor directory and hall plan available.
URL:https://supplychaney.com/event/transport-logistic/
LOCATION:Messe München\, Am Messesee 2\, Munich\, Germany
CATEGORIES:Trade Show
ATTACH;FMTTYPE=image/png:https://supplychaney.com/wp-content/uploads/2026/02/transport-logistic-1e675898c88a68f4500ee6daa81da891.png
END:VEVENT
BEGIN:VEVENT
DTSTART;TZID=America/Chicago:20270519T090000
DTEND;TZID=America/Chicago:20270520T140000
DTSTAMP:20260420T055822
CREATED:20260107T021459Z
LAST-MODIFIED:20260107T021459Z
UID:15300-1810717200-1810821600@supplychaney.com
SUMMARY:MD&M East
DESCRIPTION:MD&M East is the largest design and manufacturing event on the East Coast\, featuring 6 expos under 1 roof. \nIndustry Sectors: MedTech\, Automation\, Packaging\, Design & Manufacturing\, Plastics\, and Quality. \nEvent Statistics: Over 4\,000 attendees from 51 countries\, 300+ exhibitors\, and 30+ free education sessions. \nTarget Audience: Manufacturing professionals including Engineers (Design\, Project\, Packaging\, Plant)\, Executives (Owners\, Managers)\, R&D Experts\, Manufacturing (Production\, Operations)\, Quality Control Experts\, and Purchasing Professionals. \nEfficiently and effectively use your time and money by attending ONE SHOW THAT COVERS ALL aspects of the manufacturing process.
URL:https://supplychaney.com/event/mdm-east/
LOCATION:Jacob K. Javits Convention Center\, 429 11th Avenue\, New York\, USA
CATEGORIES:Trade Show
ATTACH;FMTTYPE=image/png:https://supplychaney.com/wp-content/uploads/2026/01/mdm-east-166d334372a4b98eaf8cd85f3ded8e98.png
END:VEVENT
BEGIN:VEVENT
DTSTART;TZID=America/Chicago:20270520T170000
DTEND;TZID=America/Chicago:20270523T170000
DTSTAMP:20260420T055822
CREATED:20260107T021932Z
LAST-MODIFIED:20260107T021932Z
UID:15306-1810832400-1811091600@supplychaney.com
SUMMARY:Brisbane Truck Show
DESCRIPTION:The Brisbane Truck Show is Australia’s largest industry exhibition\, featuring the largest array of trucks\, trailers\, components\, equipment\, and technology in the Southern Hemisphere. \nThe event will be held at the Brisbane Convention & Exhibition Centre and is presented by HVIA (Heavy Vehicle Industry Australia). \nThis major exhibition is part of Truck Week\, a vibrant celebration of the heavy vehicle industry featuring trucks on display throughout the South Bank precinct for the public to view. \nThe show also includes the Heritage Truck Show\, which celebrates the rich history of Australia’s trucking industry and honors the legacy and contributions of the industry. \nStaging the Brisbane Truck Show is described as a herculean task that showcases the latest in trucking technology and industry innovations.
URL:https://supplychaney.com/event/brisbane-truck-show/
LOCATION:Brisbane Convention & Exhibition Centre\, Brisbane\, Australia
CATEGORIES:Trade Show
ATTACH;FMTTYPE=image/png:https://supplychaney.com/wp-content/uploads/2026/01/brisbane-truck-show-77bffad1d9141f51c1e9c3f99ba76293.png
END:VEVENT
BEGIN:VEVENT
DTSTART;TZID=America/Chicago:20270927T080000
DTEND;TZID=America/Chicago:20270929T170000
DTSTAMP:20260420T055822
CREATED:20260107T021642Z
LAST-MODIFIED:20260107T021642Z
UID:15303-1822032000-1822237200@supplychaney.com
SUMMARY:PACK EXPO Las Vegas 2027
DESCRIPTION:PACK EXPO Las Vegas will return September 27-29\, 2027\, with even more innovations to see.
URL:https://supplychaney.com/event/pack-expo-las-vegas-2027/
END:VEVENT
END:VCALENDAR