BEGIN:VCALENDAR
VERSION:2.0
PRODID:-//Supply Chaney - ECPv6.15.17.1//NONSGML v1.0//EN
CALSCALE:GREGORIAN
METHOD:PUBLISH
X-ORIGINAL-URL:https://supplychaney.com
X-WR-CALDESC:Events for Supply Chaney
REFRESH-INTERVAL;VALUE=DURATION:PT1H
X-Robots-Tag:noindex
X-PUBLISHED-TTL:PT1H
BEGIN:VTIMEZONE
TZID:America/Chicago
BEGIN:DAYLIGHT
TZOFFSETFROM:-0600
TZOFFSETTO:-0500
TZNAME:CDT
DTSTART:20230312T080000
END:DAYLIGHT
BEGIN:STANDARD
TZOFFSETFROM:-0500
TZOFFSETTO:-0600
TZNAME:CST
DTSTART:20231105T070000
END:STANDARD
BEGIN:DAYLIGHT
TZOFFSETFROM:-0600
TZOFFSETTO:-0500
TZNAME:CDT
DTSTART:20240310T080000
END:DAYLIGHT
BEGIN:STANDARD
TZOFFSETFROM:-0500
TZOFFSETTO:-0600
TZNAME:CST
DTSTART:20241103T070000
END:STANDARD
BEGIN:DAYLIGHT
TZOFFSETFROM:-0600
TZOFFSETTO:-0500
TZNAME:CDT
DTSTART:20250309T080000
END:DAYLIGHT
BEGIN:STANDARD
TZOFFSETFROM:-0500
TZOFFSETTO:-0600
TZNAME:CST
DTSTART:20251102T070000
END:STANDARD
END:VTIMEZONE
BEGIN:VEVENT
DTSTART;TZID=America/Chicago:20240418T120000
DTEND;TZID=America/Chicago:20240418T150000
DTSTAMP:20260421T002134
CREATED:20240316T122825Z
LAST-MODIFIED:20240512T171637Z
UID:8083-1713441600-1713452400@supplychaney.com
SUMMARY:ASCM - Lone Star Park Horse Racing Social Event
DESCRIPTION:Join ASCM North Texas Chapter for a night of networking and thoroughbred horse racing in Grand Prairie. \nThis one of a kind social event is sure to be fun and exciting.\nJoin other ASCM members from across the metroplex and Win big in the Silks Dining Room at Lone Star Park.\nASCM Members will be seated together and enjoy unlimited dining from the Silks buffet.\nSilks features panoramic views over-looking the race track\, setting the stage for an action-packed dining event.\nIn between races network with supply chain professionals from across the metroplex growing your network and enjoying the thrill of the races.
URL:https://supplychaney.com/event/ascm-lone-star-park-horse-racing-social-event/
LOCATION:Lonestar Park\, 1000 Lone Star Pkwy\, Grand Prairie\, TX\, 75050
CATEGORIES:Networking Event
ATTACH;FMTTYPE=image/jpeg:https://supplychaney.com/wp-content/uploads/2024/03/Lonestar-park-silks-e1710574092578.jpeg
END:VEVENT
END:VCALENDAR