BEGIN:VCALENDAR
VERSION:2.0
PRODID:-//Supply Chaney - ECPv6.15.17.1//NONSGML v1.0//EN
CALSCALE:GREGORIAN
METHOD:PUBLISH
X-WR-CALNAME:Supply Chaney
X-ORIGINAL-URL:https://supplychaney.com
X-WR-CALDESC:Events for Supply Chaney
REFRESH-INTERVAL;VALUE=DURATION:PT1H
X-Robots-Tag:noindex
X-PUBLISHED-TTL:PT1H
BEGIN:VTIMEZONE
TZID:America/Chicago
BEGIN:DAYLIGHT
TZOFFSETFROM:-0600
TZOFFSETTO:-0500
TZNAME:CDT
DTSTART:20230312T080000
END:DAYLIGHT
BEGIN:STANDARD
TZOFFSETFROM:-0500
TZOFFSETTO:-0600
TZNAME:CST
DTSTART:20231105T070000
END:STANDARD
BEGIN:DAYLIGHT
TZOFFSETFROM:-0600
TZOFFSETTO:-0500
TZNAME:CDT
DTSTART:20240310T080000
END:DAYLIGHT
BEGIN:STANDARD
TZOFFSETFROM:-0500
TZOFFSETTO:-0600
TZNAME:CST
DTSTART:20241103T070000
END:STANDARD
BEGIN:DAYLIGHT
TZOFFSETFROM:-0600
TZOFFSETTO:-0500
TZNAME:CDT
DTSTART:20250309T080000
END:DAYLIGHT
BEGIN:STANDARD
TZOFFSETFROM:-0500
TZOFFSETTO:-0600
TZNAME:CST
DTSTART:20251102T070000
END:STANDARD
END:VTIMEZONE
BEGIN:VEVENT
DTSTART;TZID=America/Chicago:20240307T113000
DTEND;TZID=America/Chicago:20240307T140000
DTSTAMP:20260421T033212
CREATED:20240227T073618Z
LAST-MODIFIED:20240227T073618Z
UID:7921-1709811000-1709820000@supplychaney.com
SUMMARY:ASCM - Professional Development Meeting - Warehouse of the Future
DESCRIPTION:Join us for this exciting topic – Warehouse of the Future\nSpeaker – Chika Chukwuogo is the Head of Global Warehousing and Distribution (W&D) at Alcon \nHow the world’s leading Ophthalmic Medical device company plans to leverage automation and robotics to optimize warehouse operations and improve customer satisfaction. Demonstrate how the digitization of warehouse operations generate bottom line savings for the company and how funding is embedded within the long-term company strategy. \nNetworking and NTX ASCM hosted beer/wine bar begins at 5:30 PM\nDinner service and announcements at 6:30 PM\nSpeaker presentation at 7 PM\nClosing Remarks at 8 PM
URL:https://supplychaney.com/event/ascm-professional-development-meeting-warehouse-of-the-future/
LOCATION:Hackberry Creek Country Club\, 1901 W. Royal Lane\, Irving\, TX\, 75063\, United States
CATEGORIES:Dinner,Networking Event,Presentation
ATTACH;FMTTYPE=image/jpeg:https://supplychaney.com/wp-content/uploads/2024/02/Alcon-DC.jpg
ORGANIZER;CN="Assocation for Supply Chain Management (ASCM)":MAILTO:info@ntx.ascm.org
END:VEVENT
END:VCALENDAR