BEGIN:VCALENDAR
VERSION:2.0
PRODID:-//Supply Chaney - ECPv6.15.17.1//NONSGML v1.0//EN
CALSCALE:GREGORIAN
METHOD:PUBLISH
X-WR-CALNAME:Supply Chaney
X-ORIGINAL-URL:https://supplychaney.com
X-WR-CALDESC:Events for Supply Chaney
REFRESH-INTERVAL;VALUE=DURATION:PT1H
X-Robots-Tag:noindex
X-PUBLISHED-TTL:PT1H
BEGIN:VTIMEZONE
TZID:America/Chicago
BEGIN:DAYLIGHT
TZOFFSETFROM:-0600
TZOFFSETTO:-0500
TZNAME:CDT
DTSTART:20230312T080000
END:DAYLIGHT
BEGIN:STANDARD
TZOFFSETFROM:-0500
TZOFFSETTO:-0600
TZNAME:CST
DTSTART:20231105T070000
END:STANDARD
BEGIN:DAYLIGHT
TZOFFSETFROM:-0600
TZOFFSETTO:-0500
TZNAME:CDT
DTSTART:20240310T080000
END:DAYLIGHT
BEGIN:STANDARD
TZOFFSETFROM:-0500
TZOFFSETTO:-0600
TZNAME:CST
DTSTART:20241103T070000
END:STANDARD
BEGIN:DAYLIGHT
TZOFFSETFROM:-0600
TZOFFSETTO:-0500
TZNAME:CDT
DTSTART:20250309T080000
END:DAYLIGHT
BEGIN:STANDARD
TZOFFSETFROM:-0500
TZOFFSETTO:-0600
TZNAME:CST
DTSTART:20251102T070000
END:STANDARD
END:VTIMEZONE
BEGIN:VEVENT
DTSTART;TZID=America/Chicago:20240620T170000
DTEND;TZID=America/Chicago:20240620T203000
DTSTAMP:20260420T224803
CREATED:20240616T234952Z
LAST-MODIFIED:20240617T000303Z
UID:8722-1718902800-1718915400@supplychaney.com
SUMMARY:ASCM - AI in Supply Chain Management - Houston
DESCRIPTION:3 Panelists will share and discuss how AI is transforming Supply Chain and related industries to provide solutions and navigate obstacles that have helped them grow their business. \nAGENDA: \n5:00 Registration | Networking | Cocktails \n6:00 Welcome \n6:10 ASCM Houston Chapter President Message \n6:20 Panel Introduction \n6:25 Panel Discussion \n6:55 Q&A \n7:10 Awards Presentation \n7:50 Swearing of New Board of Directors 2024-2025 \n8:30 Adjourn
URL:https://supplychaney.com/event/ascm-ai-in-supply-chain-management-houston/
LOCATION:DoubleTree By Hilton Houston\, 6 East Greenway Plaza\, Houston\, TX\, 77046
CATEGORIES:Dinner,Panel Discussion
ATTACH;FMTTYPE=image/png:https://supplychaney.com/wp-content/uploads/2024/06/Screenshot-2024-06-16-at-6.41.49 PM-e1718581723169.png
ORGANIZER;CN="Assocation for Supply Chain Management (ASCM)":MAILTO:info@ntx.ascm.org
END:VEVENT
END:VCALENDAR