BEGIN:VCALENDAR
VERSION:2.0
PRODID:-//Supply Chaney - ECPv6.15.17.1//NONSGML v1.0//EN
CALSCALE:GREGORIAN
METHOD:PUBLISH
X-ORIGINAL-URL:https://supplychaney.com
X-WR-CALDESC:Events for Supply Chaney
REFRESH-INTERVAL;VALUE=DURATION:PT1H
X-Robots-Tag:noindex
X-PUBLISHED-TTL:PT1H
BEGIN:VTIMEZONE
TZID:America/Chicago
BEGIN:DAYLIGHT
TZOFFSETFROM:-0600
TZOFFSETTO:-0500
TZNAME:CDT
DTSTART:20230312T080000
END:DAYLIGHT
BEGIN:STANDARD
TZOFFSETFROM:-0500
TZOFFSETTO:-0600
TZNAME:CST
DTSTART:20231105T070000
END:STANDARD
BEGIN:DAYLIGHT
TZOFFSETFROM:-0600
TZOFFSETTO:-0500
TZNAME:CDT
DTSTART:20240310T080000
END:DAYLIGHT
BEGIN:STANDARD
TZOFFSETFROM:-0500
TZOFFSETTO:-0600
TZNAME:CST
DTSTART:20241103T070000
END:STANDARD
BEGIN:DAYLIGHT
TZOFFSETFROM:-0600
TZOFFSETTO:-0500
TZNAME:CDT
DTSTART:20250309T080000
END:DAYLIGHT
BEGIN:STANDARD
TZOFFSETFROM:-0500
TZOFFSETTO:-0600
TZNAME:CST
DTSTART:20251102T070000
END:STANDARD
END:VTIMEZONE
BEGIN:VEVENT
DTSTART;TZID=America/Chicago:20240822T180000
DTEND;TZID=America/Chicago:20240822T200000
DTSTAMP:20260420T195247
CREATED:20240728T230639Z
LAST-MODIFIED:20240819T032051Z
UID:8939-1724349600-1724356800@supplychaney.com
SUMMARY:ASCM DFW - Networking Social
DESCRIPTION:Ready to get out of the office or out of the house and network/socialize? So are we! Join us on Thursday\, August 22nd from 6-8 PM for drinks and apps. \nGreat time to network with other North Texas supply chain professionals. \nBoomerjack’s Grill – Bedford\, Tx
URL:https://supplychaney.com/event/ascm-dfw-networking-social-venue-tbd/
LOCATION:Boomerjacks’s Grill\, 2300 Airport Fwy\, Ste 222\, Bedford\, Tx\, 76022
CATEGORIES:Happy Hour,Networking Event
ATTACH;FMTTYPE=image/jpeg:https://supplychaney.com/wp-content/uploads/2024/07/gqc_kgjouam-e1722207952909.jpg
ORGANIZER;CN="Assocation for Supply Chain Management (ASCM)":MAILTO:info@ntx.ascm.org
END:VEVENT
END:VCALENDAR