BEGIN:VCALENDAR
VERSION:2.0
PRODID:-//Supply Chaney - ECPv6.15.17.1//NONSGML v1.0//EN
CALSCALE:GREGORIAN
METHOD:PUBLISH
X-ORIGINAL-URL:https://supplychaney.com
X-WR-CALDESC:Events for Supply Chaney
REFRESH-INTERVAL;VALUE=DURATION:PT1H
X-Robots-Tag:noindex
X-PUBLISHED-TTL:PT1H
BEGIN:VTIMEZONE
TZID:America/Chicago
BEGIN:DAYLIGHT
TZOFFSETFROM:-0600
TZOFFSETTO:-0500
TZNAME:CDT
DTSTART:20240310T080000
END:DAYLIGHT
BEGIN:STANDARD
TZOFFSETFROM:-0500
TZOFFSETTO:-0600
TZNAME:CST
DTSTART:20241103T070000
END:STANDARD
BEGIN:DAYLIGHT
TZOFFSETFROM:-0600
TZOFFSETTO:-0500
TZNAME:CDT
DTSTART:20250309T080000
END:DAYLIGHT
BEGIN:STANDARD
TZOFFSETFROM:-0500
TZOFFSETTO:-0600
TZNAME:CST
DTSTART:20251102T070000
END:STANDARD
BEGIN:DAYLIGHT
TZOFFSETFROM:-0600
TZOFFSETTO:-0500
TZNAME:CDT
DTSTART:20260308T080000
END:DAYLIGHT
BEGIN:STANDARD
TZOFFSETFROM:-0500
TZOFFSETTO:-0600
TZNAME:CST
DTSTART:20261101T070000
END:STANDARD
END:VTIMEZONE
BEGIN:VEVENT
DTSTART;TZID=America/Chicago:20251025T130000
DTEND;TZID=America/Chicago:20251029T010000
DTSTAMP:20260420T183227
CREATED:20250608T133457Z
LAST-MODIFIED:20250608T133457Z
UID:10760-1761397200-1761699600@supplychaney.com
SUMMARY:ATA's 2025 Management Conference & Exhibition
DESCRIPTION:Be at the forefront of trucking’s future at ATA’s 2025 Management Conference & Exhibition in San Diego. With the theme “A United Front: Driving Policy in a New Era\,” #ATAmce25 is where the most powerful leaders in transportation converge to define strategy\, drive policy\, and shape the industry’s next chapter. \nThis annual event brings together CEOs\, presidents\, owners\, and senior executives from across the trucking and logistics ecosystem for high-impact discussions\, policy updates\, and executive-level networking. \nAddress: 111 W Harbor Dr\, San Diego\, California\, US\, 92101
URL:https://supplychaney.com/event/atas-2025-management-conference-exhibition/
LOCATION:San Diego Convention Center\, 111 W Harbor Dr\, San Diego\, 92101\, USA
CATEGORIES:Conference,Exhibition
ATTACH;FMTTYPE=image/png:https://supplychaney.com/wp-content/uploads/2025/06/1746126566721-e1749389686532.png
END:VEVENT
END:VCALENDAR