BEGIN:VCALENDAR
VERSION:2.0
PRODID:-//Supply Chaney - ECPv6.15.17.1//NONSGML v1.0//EN
CALSCALE:GREGORIAN
METHOD:PUBLISH
X-WR-CALNAME:Supply Chaney
X-ORIGINAL-URL:https://supplychaney.com
X-WR-CALDESC:Events for Supply Chaney
REFRESH-INTERVAL;VALUE=DURATION:PT1H
X-Robots-Tag:noindex
X-PUBLISHED-TTL:PT1H
BEGIN:VTIMEZONE
TZID:America/Chicago
BEGIN:DAYLIGHT
TZOFFSETFROM:-0600
TZOFFSETTO:-0500
TZNAME:CDT
DTSTART:20240310T080000
END:DAYLIGHT
BEGIN:STANDARD
TZOFFSETFROM:-0500
TZOFFSETTO:-0600
TZNAME:CST
DTSTART:20241103T070000
END:STANDARD
BEGIN:DAYLIGHT
TZOFFSETFROM:-0600
TZOFFSETTO:-0500
TZNAME:CDT
DTSTART:20250309T080000
END:DAYLIGHT
BEGIN:STANDARD
TZOFFSETFROM:-0500
TZOFFSETTO:-0600
TZNAME:CST
DTSTART:20251102T070000
END:STANDARD
BEGIN:DAYLIGHT
TZOFFSETFROM:-0600
TZOFFSETTO:-0500
TZNAME:CDT
DTSTART:20260308T080000
END:DAYLIGHT
BEGIN:STANDARD
TZOFFSETFROM:-0500
TZOFFSETTO:-0600
TZNAME:CST
DTSTART:20261101T070000
END:STANDARD
END:VTIMEZONE
BEGIN:VEVENT
DTSTART;TZID=America/Chicago:20250812T173000
DTEND;TZID=America/Chicago:20250812T193000
DTSTAMP:20260420T232719
CREATED:20250805T044226Z
LAST-MODIFIED:20250805T044226Z
UID:11114-1755019800-1755027000@supplychaney.com
SUMMARY:CSCMP - CLE : Networking & Happy Hour
DESCRIPTION:Join CSCMP-CLE for another networking event\, this time at the Market Garden Brewery. It’s a great opportunity to connect with industry experts and discuss important supply chain and logistics-related topics—all in a relaxed setting.Two drink tokens are included with registration. \nAddress: Market Garden Brewery 1947 W 25th St Cleveland\, OH 44113 UNITED STATES
URL:https://supplychaney.com/event/cscmp-cle-networking-happy-hour/
CATEGORIES:Logistics Meetup,Networking Event
ATTACH;FMTTYPE=image/png:https://supplychaney.com/wp-content/uploads/2025/08/ChatGPT-Image-Aug-4-2025-11_38_11-PM-e1754368712145.png
END:VEVENT
BEGIN:VEVENT
DTSTART;TZID=America/Chicago:20250813T173000
DTEND;TZID=America/Chicago:20250813T193000
DTSTAMP:20260420T232719
CREATED:20250802T193938Z
LAST-MODIFIED:20250802T193938Z
UID:11078-1755106200-1755113400@supplychaney.com
SUMMARY:Procurement Happy Hour – Houston
DESCRIPTION:Join us for a high-energy networking happy hour with supply chain professionals\, proudly sponsored by High Velocity Network. This community-driven meetup is the result of a simple conversation and has grown into a powerful moment of connection for 30+ industry professionals. Come meet peers like Christian Andrade\, Elliott Q.\, Laura Barrett\, and Maria Chinchilla in person. \nDon’t miss this chance to connect with forward-thinking professionals in the procurement and logistics space — whether you’re local to Houston or flying in to join the movement! \nAddress: Kirby Ice House 1015 Gessner Rd\, Houston\, TX 77055
URL:https://supplychaney.com/event/procurement-happy-hour-houston/
CATEGORIES:Logistics Meetup,Networking Event
ATTACH;FMTTYPE=image/jpeg:https://supplychaney.com/wp-content/uploads/2025/08/1754074882119.jpg
END:VEVENT
END:VCALENDAR