BEGIN:VCALENDAR
VERSION:2.0
PRODID:-//Supply Chaney - ECPv6.15.17.1//NONSGML v1.0//EN
CALSCALE:GREGORIAN
METHOD:PUBLISH
X-ORIGINAL-URL:https://supplychaney.com
X-WR-CALDESC:Events for Supply Chaney
REFRESH-INTERVAL;VALUE=DURATION:PT1H
X-Robots-Tag:noindex
X-PUBLISHED-TTL:PT1H
BEGIN:VTIMEZONE
TZID:America/Chicago
BEGIN:DAYLIGHT
TZOFFSETFROM:-0600
TZOFFSETTO:-0500
TZNAME:CDT
DTSTART:20240310T080000
END:DAYLIGHT
BEGIN:STANDARD
TZOFFSETFROM:-0500
TZOFFSETTO:-0600
TZNAME:CST
DTSTART:20241103T070000
END:STANDARD
BEGIN:DAYLIGHT
TZOFFSETFROM:-0600
TZOFFSETTO:-0500
TZNAME:CDT
DTSTART:20250309T080000
END:DAYLIGHT
BEGIN:STANDARD
TZOFFSETFROM:-0500
TZOFFSETTO:-0600
TZNAME:CST
DTSTART:20251102T070000
END:STANDARD
BEGIN:DAYLIGHT
TZOFFSETFROM:-0600
TZOFFSETTO:-0500
TZNAME:CDT
DTSTART:20260308T080000
END:DAYLIGHT
BEGIN:STANDARD
TZOFFSETFROM:-0500
TZOFFSETTO:-0600
TZNAME:CST
DTSTART:20261101T070000
END:STANDARD
END:VTIMEZONE
BEGIN:VEVENT
DTSTART;TZID=America/Chicago:20250828T130000
DTEND;TZID=America/Chicago:20250828T160000
DTSTAMP:20260422T204222
CREATED:20250810T222953Z
LAST-MODIFIED:20250810T222953Z
UID:11160-1756386000-1756396800@supplychaney.com
SUMMARY:Feeding Tampa Bay Volunteering
DESCRIPTION:Help make a difference in the Tampa Bay community by joining Feeding Tampa Bay for an afternoon of service and connection. Nearly 1 million people in the community are just one layoff\, tragedy\, or disaster away from needing assistance. This event focuses on more than providing meals — it’s about fostering long-term stability through community action. \nVolunteers will participate in warehouse sorting: inspecting\, sorting\, and packing essential items for distribution to neighbors in need. Following the volunteer work\, there will be networking and community-building opportunities.
URL:https://supplychaney.com/event/feeding-tampa-bay-volunteering/
CATEGORIES:Networking Event,Philanthropy
ATTACH;FMTTYPE=image/png:https://supplychaney.com/wp-content/uploads/2025/08/ChatGPT-Image-Aug-10-2025-05_29_19-PM-e1754864981943.png
END:VEVENT
END:VCALENDAR