BEGIN:VCALENDAR
VERSION:2.0
PRODID:-//Supply Chaney - ECPv6.15.17.1//NONSGML v1.0//EN
CALSCALE:GREGORIAN
METHOD:PUBLISH
X-WR-CALNAME:Supply Chaney
X-ORIGINAL-URL:https://supplychaney.com
X-WR-CALDESC:Events for Supply Chaney
REFRESH-INTERVAL;VALUE=DURATION:PT1H
X-Robots-Tag:noindex
X-PUBLISHED-TTL:PT1H
BEGIN:VTIMEZONE
TZID:America/Chicago
BEGIN:DAYLIGHT
TZOFFSETFROM:-0600
TZOFFSETTO:-0500
TZNAME:CDT
DTSTART:20230312T080000
END:DAYLIGHT
BEGIN:STANDARD
TZOFFSETFROM:-0500
TZOFFSETTO:-0600
TZNAME:CST
DTSTART:20231105T070000
END:STANDARD
BEGIN:DAYLIGHT
TZOFFSETFROM:-0600
TZOFFSETTO:-0500
TZNAME:CDT
DTSTART:20240310T080000
END:DAYLIGHT
BEGIN:STANDARD
TZOFFSETFROM:-0500
TZOFFSETTO:-0600
TZNAME:CST
DTSTART:20241103T070000
END:STANDARD
BEGIN:DAYLIGHT
TZOFFSETFROM:-0600
TZOFFSETTO:-0500
TZNAME:CDT
DTSTART:20250309T080000
END:DAYLIGHT
BEGIN:STANDARD
TZOFFSETFROM:-0500
TZOFFSETTO:-0600
TZNAME:CST
DTSTART:20251102T070000
END:STANDARD
END:VTIMEZONE
BEGIN:VEVENT
DTSTART;TZID=America/Chicago:20240723T173000
DTEND;TZID=America/Chicago:20240723T193000
DTSTAMP:20260420T164046
CREATED:20240717T001135Z
LAST-MODIFIED:20240717T001135Z
UID:8912-1721755800-1721763000@supplychaney.com
SUMMARY:AECOM & WTS - WTS Membership Mixer
DESCRIPTION:You are invited to attend the WTS Membership Mixer hosted by AECOM on July 23rd from 5:30 PM to 7:30 PM! Enjoy an evening of networking with WTS members and non-members interested in joining the local chapter. Drinks and light hors d’oeuvres will be provided. This is a free event\, but pre-registration is encouraged. Don’t miss out on this great opportunity to connect!
URL:https://supplychaney.com/event/aecom-wts-wts-membership-mixer/
LOCATION:AECOM Dallas\, 13355 Noel Rd #400\, Dallas\, TX\, 75240\, United States
CATEGORIES:Networking Event
ATTACH;FMTTYPE=image/png:https://supplychaney.com/wp-content/uploads/2024/07/wts-mixer.png
END:VEVENT
END:VCALENDAR