BEGIN:VCALENDAR
VERSION:2.0
PRODID:-//Supply Chaney - ECPv6.15.17.1//NONSGML v1.0//EN
CALSCALE:GREGORIAN
METHOD:PUBLISH
X-ORIGINAL-URL:https://supplychaney.com
X-WR-CALDESC:Events for Supply Chaney
REFRESH-INTERVAL;VALUE=DURATION:PT1H
X-Robots-Tag:noindex
X-PUBLISHED-TTL:PT1H
BEGIN:VTIMEZONE
TZID:America/Chicago
BEGIN:DAYLIGHT
TZOFFSETFROM:-0600
TZOFFSETTO:-0500
TZNAME:CDT
DTSTART:20230312T080000
END:DAYLIGHT
BEGIN:STANDARD
TZOFFSETFROM:-0500
TZOFFSETTO:-0600
TZNAME:CST
DTSTART:20231105T070000
END:STANDARD
BEGIN:DAYLIGHT
TZOFFSETFROM:-0600
TZOFFSETTO:-0500
TZNAME:CDT
DTSTART:20240310T080000
END:DAYLIGHT
BEGIN:STANDARD
TZOFFSETFROM:-0500
TZOFFSETTO:-0600
TZNAME:CST
DTSTART:20241103T070000
END:STANDARD
BEGIN:DAYLIGHT
TZOFFSETFROM:-0600
TZOFFSETTO:-0500
TZNAME:CDT
DTSTART:20250309T080000
END:DAYLIGHT
BEGIN:STANDARD
TZOFFSETFROM:-0500
TZOFFSETTO:-0600
TZNAME:CST
DTSTART:20251102T070000
END:STANDARD
END:VTIMEZONE
BEGIN:VEVENT
DTSTART;TZID=America/Chicago:20240827T123000
DTEND;TZID=America/Chicago:20240827T140000
DTSTAMP:20260420T164751
CREATED:20240716T233637Z
LAST-MODIFIED:20240826T004559Z
UID:8900-1724761800-1724767200@supplychaney.com
SUMMARY:YPT & WTS DFW - Lunch and Learn
DESCRIPTION:Join for an insightful lunch and Learn event hosted by Women’s Transportation Seminar WTS Greater Dallas/Fort Worth Chapter and Young Professionals in Transportation – DFW\, featuring Amy Johnson\, Principal Transportation Planner at NCTCOG Transportation. Amy will discuss Mobility 2050\, NCTCOG’s ambitious long-range metropolitan transportation plan. This blueprint aims to enhance the North Central Texas multimodal transportation network through 2050\, focusing on improving access to jobs\, education\, healthcare\, and healthy food\, while prioritizing system safety and air quality. The Plan strives to meet the mobility needs of the region by guiding the implementation of multimodal transportation improvements\, polices and programs in the 12-county Metropolitan Planning Area through the year 2025. This luncheon is presented by YPT DFW and WTS. Don’t miss this opportunity to delve into the future of mobility in our region! \nRegister HERE
URL:https://supplychaney.com/event/ypt-wts-dfw-lunch-and-learn/
LOCATION:North Central Texas Council of Governments\, 616 Six Flags Dr\, Arlington\, TX\, 76011\, United States
CATEGORIES:Lunch Event,Presentation
ATTACH;FMTTYPE=image/png:https://supplychaney.com/wp-content/uploads/2024/07/ypt.png
END:VEVENT
END:VCALENDAR